BEGIN:VCALENDAR
VERSION:2.0
PRODID:-//Gibson-Neill Memorial Elementary School - ECPv6.15.20//NONSGML v1.0//EN
CALSCALE:GREGORIAN
METHOD:PUBLISH
X-WR-CALNAME:Gibson-Neill Memorial Elementary School
X-ORIGINAL-URL:https://gnmes.nbed.ca
X-WR-CALDESC:Events for Gibson-Neill Memorial Elementary School
REFRESH-INTERVAL;VALUE=DURATION:PT1H
X-Robots-Tag:noindex
X-PUBLISHED-TTL:PT1H
BEGIN:VTIMEZONE
TZID:America/Moncton
BEGIN:DAYLIGHT
TZOFFSETFROM:-0400
TZOFFSETTO:-0300
TZNAME:ADT
DTSTART:20250309T060000
END:DAYLIGHT
BEGIN:STANDARD
TZOFFSETFROM:-0300
TZOFFSETTO:-0400
TZNAME:AST
DTSTART:20251102T050000
END:STANDARD
BEGIN:DAYLIGHT
TZOFFSETFROM:-0400
TZOFFSETTO:-0300
TZNAME:ADT
DTSTART:20260308T060000
END:DAYLIGHT
BEGIN:STANDARD
TZOFFSETFROM:-0300
TZOFFSETTO:-0400
TZNAME:AST
DTSTART:20261101T050000
END:STANDARD
BEGIN:DAYLIGHT
TZOFFSETFROM:-0400
TZOFFSETTO:-0300
TZNAME:ADT
DTSTART:20270314T060000
END:DAYLIGHT
BEGIN:STANDARD
TZOFFSETFROM:-0300
TZOFFSETTO:-0400
TZNAME:AST
DTSTART:20271107T050000
END:STANDARD
END:VTIMEZONE
BEGIN:VEVENT
DTSTART;TZID=America/Moncton:20260302T080000
DTEND;TZID=America/Moncton:20260306T170000
DTSTAMP:20260419T092511
CREATED:20250905T121958Z
LAST-MODIFIED:20250905T122002Z
UID:10000314-1772438400-1772816400@gnmes.nbed.ca
SUMMARY:March Break
DESCRIPTION:
URL:https://gnmes.nbed.ca/calendar/march-break-3/
END:VEVENT
BEGIN:VEVENT
DTSTART;TZID=America/Moncton:20260313T080000
DTEND;TZID=America/Moncton:20260313T170000
DTSTAMP:20260419T092511
CREATED:20250905T122224Z
LAST-MODIFIED:20250905T122227Z
UID:10000315-1773388800-1773421200@gnmes.nbed.ca
SUMMARY:No School for students - Report Card Prep
DESCRIPTION:
URL:https://gnmes.nbed.ca/calendar/no-school-for-students-report-card-prep-2/
END:VEVENT
BEGIN:VEVENT
DTSTART;TZID=America/Moncton:20260319T183000
DTEND;TZID=America/Moncton:20260319T183000
DTSTAMP:20260419T092511
CREATED:20260206T181717Z
LAST-MODIFIED:20260206T181718Z
UID:10000349-1773945000-1773945000@gnmes.nbed.ca
SUMMARY:Home & School Meeting
DESCRIPTION:
URL:https://gnmes.nbed.ca/calendar/home-school-meeting-4/
END:VEVENT
BEGIN:VEVENT
DTSTART;TZID=America/Moncton:20260320T000000
DTEND;TZID=America/Moncton:20260320T235959
DTSTAMP:20260419T092511
CREATED:20260206T181753Z
LAST-MODIFIED:20260206T182035Z
UID:10000350-1773964800-1774051199@gnmes.nbed.ca
SUMMARY:Spring Begins
DESCRIPTION:
URL:https://gnmes.nbed.ca/calendar/spring-begins/
END:VEVENT
BEGIN:VEVENT
DTSTART;TZID=America/Moncton:20260323T130000
DTEND;TZID=America/Moncton:20260323T130000
DTSTAMP:20260419T092511
CREATED:20260317T135839Z
LAST-MODIFIED:20260317T135841Z
UID:10000374-1774270800-1774270800@gnmes.nbed.ca
SUMMARY:Drumming Presentation for Parents
DESCRIPTION:
URL:https://gnmes.nbed.ca/calendar/drumming-presentation-for-parents/
END:VEVENT
BEGIN:VEVENT
DTSTART;TZID=America/Moncton:20260323T183000
DTEND;TZID=America/Moncton:20260323T183000
DTSTAMP:20260419T092511
CREATED:20260206T181850Z
LAST-MODIFIED:20260206T181852Z
UID:10000351-1774290600-1774290600@gnmes.nbed.ca
SUMMARY:PSSC Meeting
DESCRIPTION:
URL:https://gnmes.nbed.ca/calendar/pssc-meeting-10/
END:VEVENT
BEGIN:VEVENT
DTSTART;TZID=America/Moncton:20260330T000000
DTEND;TZID=America/Moncton:20260330T235959
DTSTAMP:20260419T092511
CREATED:20260206T181947Z
LAST-MODIFIED:20260206T182057Z
UID:10000352-1774828800-1774915199@gnmes.nbed.ca
SUMMARY:Report Cards Go Home
DESCRIPTION:
URL:https://gnmes.nbed.ca/calendar/report-cards-go-home-2/
END:VEVENT
END:VCALENDAR