BEGIN:VCALENDAR
VERSION:2.0
PRODID:-//Gibson-Neill Memorial Elementary School - ECPv6.15.20//NONSGML v1.0//EN
CALSCALE:GREGORIAN
METHOD:PUBLISH
X-WR-CALNAME:Gibson-Neill Memorial Elementary School
X-ORIGINAL-URL:https://gnmes.nbed.ca
X-WR-CALDESC:Events for Gibson-Neill Memorial Elementary School
REFRESH-INTERVAL;VALUE=DURATION:PT1H
X-Robots-Tag:noindex
X-PUBLISHED-TTL:PT1H
BEGIN:VTIMEZONE
TZID:America/Moncton
BEGIN:DAYLIGHT
TZOFFSETFROM:-0400
TZOFFSETTO:-0300
TZNAME:ADT
DTSTART:20250309T060000
END:DAYLIGHT
BEGIN:STANDARD
TZOFFSETFROM:-0300
TZOFFSETTO:-0400
TZNAME:AST
DTSTART:20251102T050000
END:STANDARD
BEGIN:DAYLIGHT
TZOFFSETFROM:-0400
TZOFFSETTO:-0300
TZNAME:ADT
DTSTART:20260308T060000
END:DAYLIGHT
BEGIN:STANDARD
TZOFFSETFROM:-0300
TZOFFSETTO:-0400
TZNAME:AST
DTSTART:20261101T050000
END:STANDARD
BEGIN:DAYLIGHT
TZOFFSETFROM:-0400
TZOFFSETTO:-0300
TZNAME:ADT
DTSTART:20270314T060000
END:DAYLIGHT
BEGIN:STANDARD
TZOFFSETFROM:-0300
TZOFFSETTO:-0400
TZNAME:AST
DTSTART:20271107T050000
END:STANDARD
END:VTIMEZONE
BEGIN:VEVENT
DTSTART;TZID=America/Moncton:20260209T080000
DTEND;TZID=America/Moncton:20260213T170000
DTSTAMP:20260419T105418
CREATED:20260205T185108Z
LAST-MODIFIED:20260205T185109Z
UID:10000332-1770624000-1771002000@gnmes.nbed.ca
SUMMARY:Staff Appreciation Week
DESCRIPTION:
URL:https://gnmes.nbed.ca/calendar/staff-appreciation-week-2/
END:VEVENT
BEGIN:VEVENT
DTSTART;TZID=America/Moncton:20260210T110000
DTEND;TZID=America/Moncton:20260210T110000
DTSTAMP:20260419T105418
CREATED:20260205T185256Z
LAST-MODIFIED:20260205T185257Z
UID:10000333-1770721200-1770721200@gnmes.nbed.ca
SUMMARY:TNB Performance: Velveteen Rabbit
DESCRIPTION:
URL:https://gnmes.nbed.ca/calendar/tnb-performance-velveteen-rabbit/
END:VEVENT
BEGIN:VEVENT
DTSTART;TZID=America/Moncton:20260212T000000
DTEND;TZID=America/Moncton:20260212T235959
DTSTAMP:20260419T105418
CREATED:20260205T185357Z
LAST-MODIFIED:20260205T185449Z
UID:10000334-1770854400-1770940799@gnmes.nbed.ca
SUMMARY:District Chess Tournament
DESCRIPTION:
URL:https://gnmes.nbed.ca/calendar/district-chess-tournament/
END:VEVENT
BEGIN:VEVENT
DTSTART;TZID=America/Moncton:20260216T080000
DTEND;TZID=America/Moncton:20260216T170000
DTSTAMP:20260419T105418
CREATED:20250905T121520Z
LAST-MODIFIED:20250905T121523Z
UID:10000313-1771228800-1771261200@gnmes.nbed.ca
SUMMARY:No School - Family Day
DESCRIPTION:
URL:https://gnmes.nbed.ca/calendar/no-school-family-day/
END:VEVENT
BEGIN:VEVENT
DTSTART;TZID=America/Moncton:20260217T080000
DTEND;TZID=America/Moncton:20260217T170000
DTSTAMP:20260419T105418
CREATED:20260206T160626Z
LAST-MODIFIED:20260206T160628Z
UID:10000336-1771315200-1771347600@gnmes.nbed.ca
SUMMARY:Beginning of Chinese New Year
DESCRIPTION:
URL:https://gnmes.nbed.ca/calendar/beginning-of-chinese-new-year/
END:VEVENT
BEGIN:VEVENT
DTSTART;TZID=America/Moncton:20260217T080000
DTEND;TZID=America/Moncton:20260217T170000
DTSTAMP:20260419T105418
CREATED:20260206T160719Z
LAST-MODIFIED:20260206T160721Z
UID:10000337-1771315200-1771347600@gnmes.nbed.ca
SUMMARY:Random Acts of Kindness Day
DESCRIPTION:
URL:https://gnmes.nbed.ca/calendar/random-acts-of-kindness-day/
END:VEVENT
BEGIN:VEVENT
DTSTART;TZID=America/Moncton:20260218T080000
DTEND;TZID=America/Moncton:20260218T170000
DTSTAMP:20260419T105418
CREATED:20260206T160817Z
LAST-MODIFIED:20260206T160818Z
UID:10000338-1771401600-1771434000@gnmes.nbed.ca
SUMMARY:First Day of Ramadan
DESCRIPTION:
URL:https://gnmes.nbed.ca/calendar/first-day-of-ramadan/
END:VEVENT
BEGIN:VEVENT
DTSTART;TZID=America/Moncton:20260219T180000
DTEND;TZID=America/Moncton:20260219T190000
DTSTAMP:20260419T105418
CREATED:20260206T161228Z
LAST-MODIFIED:20260206T161230Z
UID:10000339-1771524000-1771527600@gnmes.nbed.ca
SUMMARY:Zumba Family Wellness
DESCRIPTION:
URL:https://gnmes.nbed.ca/calendar/zumba-family-wellness/
END:VEVENT
BEGIN:VEVENT
DTSTART;TZID=America/Moncton:20260223T080000
DTEND;TZID=America/Moncton:20260223T170000
DTSTAMP:20260419T105418
CREATED:20260206T175029Z
LAST-MODIFIED:20260206T175031Z
UID:10000341-1771833600-1771866000@gnmes.nbed.ca
SUMMARY:Theme Dress Up Day: Team Spirit
DESCRIPTION:
URL:https://gnmes.nbed.ca/calendar/theme-dress-up-day-team-spirit/
END:VEVENT
BEGIN:VEVENT
DTSTART;TZID=America/Moncton:20260223T080000
DTEND;TZID=America/Moncton:20260227T170000
DTSTAMP:20260419T105418
CREATED:20260211T184908Z
LAST-MODIFIED:20260211T184910Z
UID:10000363-1771833600-1772211600@gnmes.nbed.ca
SUMMARY:Coyote Theme Week
DESCRIPTION:
URL:https://gnmes.nbed.ca/calendar/coyote-theme-week/
END:VEVENT
BEGIN:VEVENT
DTSTART;TZID=America/Moncton:20260223T183000
DTEND;TZID=America/Moncton:20260223T183000
DTSTAMP:20260419T105418
CREATED:20260206T174807Z
LAST-MODIFIED:20260206T174809Z
UID:10000340-1771871400-1771871400@gnmes.nbed.ca
SUMMARY:PSSC Meeting
DESCRIPTION:
URL:https://gnmes.nbed.ca/calendar/pssc-meeting-9/
END:VEVENT
BEGIN:VEVENT
DTSTART;TZID=America/Moncton:20260224T080000
DTEND;TZID=America/Moncton:20260224T170000
DTSTAMP:20260419T105418
CREATED:20260206T180240Z
LAST-MODIFIED:20260206T180242Z
UID:10000343-1771920000-1771952400@gnmes.nbed.ca
SUMMARY:Theme Dress Up Day: Represent Your Country
DESCRIPTION:
URL:https://gnmes.nbed.ca/calendar/theme-dress-up-day-represent-your-country/
END:VEVENT
BEGIN:VEVENT
DTSTART;TZID=America/Moncton:20260225T080000
DTEND;TZID=America/Moncton:20260225T170000
DTSTAMP:20260419T105418
CREATED:20260206T180849Z
LAST-MODIFIED:20260206T180851Z
UID:10000344-1772006400-1772038800@gnmes.nbed.ca
SUMMARY:Pink Shirt Day
DESCRIPTION:
URL:https://gnmes.nbed.ca/calendar/pink-shirt-day-3/
END:VEVENT
BEGIN:VEVENT
DTSTART;TZID=America/Moncton:20260225T130000
DTEND;TZID=America/Moncton:20260225T140000
DTSTAMP:20260419T105418
CREATED:20260206T181159Z
LAST-MODIFIED:20260206T181202Z
UID:10000345-1772024400-1772028000@gnmes.nbed.ca
SUMMARY:Hot Chocolate for the School
DESCRIPTION:
URL:https://gnmes.nbed.ca/calendar/hot-chocolate-for-the-school/
END:VEVENT
BEGIN:VEVENT
DTSTART;TZID=America/Moncton:20260226T080000
DTEND;TZID=America/Moncton:20260226T170000
DTSTAMP:20260419T105418
CREATED:20260206T181258Z
LAST-MODIFIED:20260206T181300Z
UID:10000346-1772092800-1772125200@gnmes.nbed.ca
SUMMARY:Theme Dress Up Day: Pajamas
DESCRIPTION:
URL:https://gnmes.nbed.ca/calendar/theme-dress-up-day-pajamas/
END:VEVENT
BEGIN:VEVENT
DTSTART;TZID=America/Moncton:20260227T080000
DTEND;TZID=America/Moncton:20260227T170000
DTSTAMP:20260419T105418
CREATED:20260206T181442Z
LAST-MODIFIED:20260206T181443Z
UID:10000347-1772179200-1772211600@gnmes.nbed.ca
SUMMARY:Theme Dress Up Day: School Spirit Day
DESCRIPTION:
URL:https://gnmes.nbed.ca/calendar/theme-dress-up-day-school-spirit-day/
END:VEVENT
END:VCALENDAR