BEGIN:VCALENDAR
VERSION:2.0
PRODID:-//Gibson-Neill Memorial Elementary School - ECPv6.15.20//NONSGML v1.0//EN
CALSCALE:GREGORIAN
METHOD:PUBLISH
X-WR-CALNAME:Gibson-Neill Memorial Elementary School
X-ORIGINAL-URL:https://gnmes.nbed.ca
X-WR-CALDESC:Events for Gibson-Neill Memorial Elementary School
REFRESH-INTERVAL;VALUE=DURATION:PT1H
X-Robots-Tag:noindex
X-PUBLISHED-TTL:PT1H
BEGIN:VTIMEZONE
TZID:America/Moncton
BEGIN:DAYLIGHT
TZOFFSETFROM:-0400
TZOFFSETTO:-0300
TZNAME:ADT
DTSTART:20240310T060000
END:DAYLIGHT
BEGIN:STANDARD
TZOFFSETFROM:-0300
TZOFFSETTO:-0400
TZNAME:AST
DTSTART:20241103T050000
END:STANDARD
BEGIN:DAYLIGHT
TZOFFSETFROM:-0400
TZOFFSETTO:-0300
TZNAME:ADT
DTSTART:20250309T060000
END:DAYLIGHT
BEGIN:STANDARD
TZOFFSETFROM:-0300
TZOFFSETTO:-0400
TZNAME:AST
DTSTART:20251102T050000
END:STANDARD
BEGIN:DAYLIGHT
TZOFFSETFROM:-0400
TZOFFSETTO:-0300
TZNAME:ADT
DTSTART:20260308T060000
END:DAYLIGHT
BEGIN:STANDARD
TZOFFSETFROM:-0300
TZOFFSETTO:-0400
TZNAME:AST
DTSTART:20261101T050000
END:STANDARD
BEGIN:DAYLIGHT
TZOFFSETFROM:-0400
TZOFFSETTO:-0300
TZNAME:ADT
DTSTART:20270314T060000
END:DAYLIGHT
BEGIN:STANDARD
TZOFFSETFROM:-0300
TZOFFSETTO:-0400
TZNAME:AST
DTSTART:20271107T050000
END:STANDARD
END:VTIMEZONE
BEGIN:VEVENT
DTSTART;TZID=America/Moncton:20251201T080000
DTEND;TZID=America/Moncton:20251201T170000
DTSTAMP:20260419T135629
CREATED:20251118T173413Z
LAST-MODIFIED:20251118T173631Z
UID:10000322-1764576000-1764608400@gnmes.nbed.ca
SUMMARY:Student Report Cards Go Home
DESCRIPTION:
URL:https://gnmes.nbed.ca/calendar/student-report-cards-go-home/
END:VEVENT
BEGIN:VEVENT
DTSTART;TZID=America/Moncton:20251202T080000
DTEND;TZID=America/Moncton:20251205T170000
DTSTAMP:20260419T135629
CREATED:20251118T174437Z
LAST-MODIFIED:20251118T174936Z
UID:10000323-1764662400-1764954000@gnmes.nbed.ca
SUMMARY:School Book Fair
DESCRIPTION:
URL:https://gnmes.nbed.ca/calendar/school-book-fair/
END:VEVENT
BEGIN:VEVENT
DTSTART;TZID=America/Moncton:20251204T163000
DTEND;TZID=America/Moncton:20251204T183000
DTSTAMP:20260419T135629
CREATED:20251118T174726Z
LAST-MODIFIED:20251118T174728Z
UID:10000324-1764865800-1764873000@gnmes.nbed.ca
SUMMARY:Parent Teacher Interviews
DESCRIPTION:
URL:https://gnmes.nbed.ca/calendar/parent-teacher-interviews/
END:VEVENT
BEGIN:VEVENT
DTSTART;TZID=America/Moncton:20251205T080000
DTEND;TZID=America/Moncton:20251205T170000
DTSTAMP:20260419T135629
CREATED:20250905T121159Z
LAST-MODIFIED:20250905T121204Z
UID:10000311-1764921600-1764954000@gnmes.nbed.ca
SUMMARY:No School - Parent Teacher Interviews
DESCRIPTION:
URL:https://gnmes.nbed.ca/calendar/no-school-parent-teacher-interviews/
END:VEVENT
BEGIN:VEVENT
DTSTART;TZID=America/Moncton:20251211T170000
DTEND;TZID=America/Moncton:20251211T170000
DTSTAMP:20260419T135629
CREATED:20251203T162331Z
LAST-MODIFIED:20251203T162334Z
UID:10000326-1765472400-1765472400@gnmes.nbed.ca
SUMMARY:Sistema Winter Concert
DESCRIPTION:
URL:https://gnmes.nbed.ca/calendar/sistema-winter-concert/
END:VEVENT
BEGIN:VEVENT
DTSTART;TZID=America/Moncton:20251218T090000
DTEND;TZID=America/Moncton:20251218T090000
DTSTAMP:20260419T135629
CREATED:20251203T163154Z
LAST-MODIFIED:20251203T163157Z
UID:10000327-1766048400-1766048400@gnmes.nbed.ca
SUMMARY:Holiday Concert - Show 1
DESCRIPTION:
URL:https://gnmes.nbed.ca/calendar/holiday-concert-show-1/
END:VEVENT
BEGIN:VEVENT
DTSTART;TZID=America/Moncton:20251218T110000
DTEND;TZID=America/Moncton:20251218T110000
DTSTAMP:20260419T135629
CREATED:20251203T163523Z
LAST-MODIFIED:20251203T163526Z
UID:10000328-1766055600-1766055600@gnmes.nbed.ca
SUMMARY:Holiday Concert - Show 2
DESCRIPTION:
URL:https://gnmes.nbed.ca/calendar/holiday-concert-show-2/
END:VEVENT
BEGIN:VEVENT
DTSTART;TZID=America/Moncton:20251222T080000
DTEND;TZID=America/Moncton:20260102T170000
DTSTAMP:20260419T135629
CREATED:20250905T121311Z
LAST-MODIFIED:20250905T121314Z
UID:10000312-1766390400-1767373200@gnmes.nbed.ca
SUMMARY:Winter Break
DESCRIPTION:
URL:https://gnmes.nbed.ca/calendar/winter-break/
END:VEVENT
END:VCALENDAR