BEGIN:VCALENDAR
VERSION:2.0
PRODID:-//Gibson-Neill Memorial Elementary School - ECPv6.15.20//NONSGML v1.0//EN
CALSCALE:GREGORIAN
METHOD:PUBLISH
X-ORIGINAL-URL:https://gnmes.nbed.ca
X-WR-CALDESC:Events for Gibson-Neill Memorial Elementary School
REFRESH-INTERVAL;VALUE=DURATION:PT1H
X-Robots-Tag:noindex
X-PUBLISHED-TTL:PT1H
BEGIN:VTIMEZONE
TZID:America/Moncton
BEGIN:DAYLIGHT
TZOFFSETFROM:-0400
TZOFFSETTO:-0300
TZNAME:ADT
DTSTART:20230312T060000
END:DAYLIGHT
BEGIN:STANDARD
TZOFFSETFROM:-0300
TZOFFSETTO:-0400
TZNAME:AST
DTSTART:20231105T050000
END:STANDARD
BEGIN:DAYLIGHT
TZOFFSETFROM:-0400
TZOFFSETTO:-0300
TZNAME:ADT
DTSTART:20240310T060000
END:DAYLIGHT
BEGIN:STANDARD
TZOFFSETFROM:-0300
TZOFFSETTO:-0400
TZNAME:AST
DTSTART:20241103T050000
END:STANDARD
BEGIN:DAYLIGHT
TZOFFSETFROM:-0400
TZOFFSETTO:-0300
TZNAME:ADT
DTSTART:20250309T060000
END:DAYLIGHT
BEGIN:STANDARD
TZOFFSETFROM:-0300
TZOFFSETTO:-0400
TZNAME:AST
DTSTART:20251102T050000
END:STANDARD
END:VTIMEZONE
BEGIN:VEVENT
DTSTART;TZID=America/Moncton:20240503T080000
DTEND;TZID=America/Moncton:20240503T170000
DTSTAMP:20260420T212256
CREATED:20240315T124520Z
LAST-MODIFIED:20240315T124521Z
UID:10000261-1714723200-1714755600@gnmes.nbed.ca
SUMMARY:NBTA Council Day
DESCRIPTION:No school for students
URL:https://gnmes.nbed.ca/calendar/nbta-council-day/
END:VEVENT
BEGIN:VEVENT
DTSTART;TZID=America/Moncton:20240503T081500
DTEND;TZID=America/Moncton:20240503T163000
DTSTAMP:20260420T212256
CREATED:20230616T123015Z
LAST-MODIFIED:20230620T120236Z
UID:10000175-1714724100-1714753800@gnmes.nbed.ca
SUMMARY:Council Day
DESCRIPTION:Teachers and administrators ONLY.
URL:https://gnmes.nbed.ca/calendar/council-day-2/
CATEGORIES:Current Students
END:VEVENT
BEGIN:VEVENT
DTSTART;TZID=America/Moncton:20240509T083000
DTEND;TZID=America/Moncton:20240509T150000
DTSTAMP:20260420T212256
CREATED:20240315T124320Z
LAST-MODIFIED:20240315T124321Z
UID:10000259-1715243400-1715266800@gnmes.nbed.ca
SUMMARY:Power Play Market
DESCRIPTION:
URL:https://gnmes.nbed.ca/calendar/power-play-market/
CATEGORIES:Current Students
END:VEVENT
BEGIN:VEVENT
DTSTART;TZID=America/Moncton:20240513T080000
DTEND;TZID=America/Moncton:20240513T170000
DTSTAMP:20260420T212256
CREATED:20240315T124447Z
LAST-MODIFIED:20240315T124448Z
UID:10000260-1715587200-1715619600@gnmes.nbed.ca
SUMMARY:NBTA Branch Day
DESCRIPTION:No school for student
URL:https://gnmes.nbed.ca/calendar/nbta-branch-day/
END:VEVENT
BEGIN:VEVENT
DTSTART;TZID=America/Moncton:20240520T000000
DTEND;TZID=America/Moncton:20240520T235900
DTSTAMP:20260420T212256
CREATED:20230616T123111Z
LAST-MODIFIED:20230623T182926Z
UID:10000174-1716163200-1716249540@gnmes.nbed.ca
SUMMARY:Victoria Day
DESCRIPTION:Schools closed!
URL:https://gnmes.nbed.ca/calendar/victoria-day-2/
CATEGORIES:Current Students
END:VEVENT
BEGIN:VEVENT
DTSTART;TZID=America/Moncton:20240522T140000
DTEND;TZID=America/Moncton:20240522T150000
DTSTAMP:20260420T212256
CREATED:20240223T153445Z
LAST-MODIFIED:20240223T153446Z
UID:10000256-1716386400-1716390000@gnmes.nbed.ca
SUMMARY:Kindergarten Orientation
DESCRIPTION:
URL:https://gnmes.nbed.ca/calendar/kindergarten-orientation-2/
ATTACH;FMTTYPE=image/jpeg:https://gnmes.nbed.ca/wp-content/uploads/sites/34/2024/02/Kindergarten-Orientation-Invite-2024.jpg
END:VEVENT
BEGIN:VEVENT
DTSTART;TZID=America/Moncton:20240523T083000
DTEND;TZID=America/Moncton:20240523T150000
DTSTAMP:20260420T212256
CREATED:20240315T124642Z
LAST-MODIFIED:20240315T124643Z
UID:10000262-1716453000-1716476400@gnmes.nbed.ca
SUMMARY:Track & Field - Grade 3-5
DESCRIPTION:
URL:https://gnmes.nbed.ca/calendar/track-field-grade-3-5/
CATEGORIES:Athletics,Current Students
END:VEVENT
BEGIN:VEVENT
DTSTART;TZID=America/Moncton:20240528T090000
DTEND;TZID=America/Moncton:20240528T100000
DTSTAMP:20260420T212256
CREATED:20240202T132836Z
LAST-MODIFIED:20240315T124731Z
UID:10000250-1716886800-1716890400@gnmes.nbed.ca
SUMMARY:Drama Show (A-L)
DESCRIPTION:Drama show # 1 9:00 for those with last names from A-L
URL:https://gnmes.nbed.ca/calendar/drama-show/
CATEGORIES:Current Students,Extracurricular
END:VEVENT
BEGIN:VEVENT
DTSTART;TZID=America/Moncton:20240529T090000
DTEND;TZID=America/Moncton:20240529T100000
DTSTAMP:20260420T212256
CREATED:20240202T132926Z
LAST-MODIFIED:20240315T124759Z
UID:10000251-1716973200-1716976800@gnmes.nbed.ca
SUMMARY:Drama Show (M-Z)
DESCRIPTION:Drama show # 2 9:00 for those with last names M-Z
URL:https://gnmes.nbed.ca/calendar/drama-show-2/
CATEGORIES:Current Students,Extracurricular
END:VEVENT
BEGIN:VEVENT
DTSTART;TZID=America/Moncton:20240530T083000
DTEND;TZID=America/Moncton:20240530T150000
DTSTAMP:20260420T212256
CREATED:20240315T124854Z
LAST-MODIFIED:20240315T124856Z
UID:10000263-1717057800-1717081200@gnmes.nbed.ca
SUMMARY:District Track Meet (Gr 3-5)
DESCRIPTION:
URL:https://gnmes.nbed.ca/calendar/district-track-meet-gr-3-5/
CATEGORIES:Athletics,Current Students
END:VEVENT
END:VCALENDAR