BEGIN:VCALENDAR
VERSION:2.0
PRODID:-//Gibson-Neill Memorial Elementary School - ECPv6.15.20//NONSGML v1.0//EN
CALSCALE:GREGORIAN
METHOD:PUBLISH
X-WR-CALNAME:Gibson-Neill Memorial Elementary School
X-ORIGINAL-URL:https://gnmes.nbed.ca
X-WR-CALDESC:Events for Gibson-Neill Memorial Elementary School
REFRESH-INTERVAL;VALUE=DURATION:PT1H
X-Robots-Tag:noindex
X-PUBLISHED-TTL:PT1H
BEGIN:VTIMEZONE
TZID:America/Moncton
BEGIN:DAYLIGHT
TZOFFSETFROM:-0400
TZOFFSETTO:-0300
TZNAME:ADT
DTSTART:20220313T060000
END:DAYLIGHT
BEGIN:STANDARD
TZOFFSETFROM:-0300
TZOFFSETTO:-0400
TZNAME:AST
DTSTART:20221106T050000
END:STANDARD
BEGIN:DAYLIGHT
TZOFFSETFROM:-0400
TZOFFSETTO:-0300
TZNAME:ADT
DTSTART:20230312T060000
END:DAYLIGHT
BEGIN:STANDARD
TZOFFSETFROM:-0300
TZOFFSETTO:-0400
TZNAME:AST
DTSTART:20231105T050000
END:STANDARD
BEGIN:DAYLIGHT
TZOFFSETFROM:-0400
TZOFFSETTO:-0300
TZNAME:ADT
DTSTART:20240310T060000
END:DAYLIGHT
BEGIN:STANDARD
TZOFFSETFROM:-0300
TZOFFSETTO:-0400
TZNAME:AST
DTSTART:20241103T050000
END:STANDARD
END:VTIMEZONE
BEGIN:VEVENT
DTSTART;TZID=America/Moncton:20230601T083000
DTEND;TZID=America/Moncton:20230601T150000
DTSTAMP:20260421T155034
CREATED:20230502T141118Z
LAST-MODIFIED:20230502T141217Z
UID:10000146-1685608200-1685631600@gnmes.nbed.ca
SUMMARY:Northside Track & Field-Districts
DESCRIPTION:A-Distt Nasis Middle School
URL:https://gnmes.nbed.ca/calendar/northside-track-field-meet/
CATEGORIES:Athletics,Current Students
END:VEVENT
BEGIN:VEVENT
DTSTART;TZID=America/Moncton:20230601T180000
DTEND;TZID=America/Moncton:20230601T190000
DTSTAMP:20260421T155034
CREATED:20230502T141311Z
LAST-MODIFIED:20230502T141312Z
UID:10000147-1685642400-1685646000@gnmes.nbed.ca
SUMMARY:Home & School Meeting
DESCRIPTION:
URL:https://gnmes.nbed.ca/calendar/home-school-meeting/
CATEGORIES:About our School,HSA
END:VEVENT
BEGIN:VEVENT
DTSTART;TZID=America/Moncton:20230605T083000
DTEND;TZID=America/Moncton:20230605T150000
DTSTAMP:20260421T155034
CREATED:20230502T141434Z
LAST-MODIFIED:20230502T141435Z
UID:10000148-1685953800-1685977200@gnmes.nbed.ca
SUMMARY:Rain Date for District Track Meet
DESCRIPTION:
URL:https://gnmes.nbed.ca/calendar/rain-date-for-district-track-meet/
CATEGORIES:Athletics,Current Students
END:VEVENT
BEGIN:VEVENT
DTSTART;TZID=America/Moncton:20230608T083000
DTEND;TZID=America/Moncton:20230608T150000
DTSTAMP:20260421T155034
CREATED:20230502T141803Z
LAST-MODIFIED:20230502T141804Z
UID:10000150-1686213000-1686236400@gnmes.nbed.ca
SUMMARY:K-2 Fun Day
DESCRIPTION:
URL:https://gnmes.nbed.ca/calendar/k-2-fun-day/
CATEGORIES:Current Students
END:VEVENT
BEGIN:VEVENT
DTSTART;TZID=America/Moncton:20230609T083000
DTEND;TZID=America/Moncton:20230609T150000
DTSTAMP:20260421T155034
CREATED:20230502T141832Z
LAST-MODIFIED:20230502T141832Z
UID:10000151-1686299400-1686322800@gnmes.nbed.ca
SUMMARY:3-5 Fun Day
DESCRIPTION:
URL:https://gnmes.nbed.ca/calendar/3-5-fun-day/
CATEGORIES:Current Students
END:VEVENT
BEGIN:VEVENT
DTSTART;TZID=America/Moncton:20230613T083000
DTEND;TZID=America/Moncton:20230613T150000
DTSTAMP:20260421T155034
CREATED:20230502T141925Z
LAST-MODIFIED:20230502T141926Z
UID:10000152-1686645000-1686668400@gnmes.nbed.ca
SUMMARY:Green Hill Lake - Grade 5
DESCRIPTION:
URL:https://gnmes.nbed.ca/calendar/green-hill-lake-grade-5/
CATEGORIES:Current Students,Extracurricular
END:VEVENT
BEGIN:VEVENT
DTSTART;TZID=America/Moncton:20230615T083000
DTEND;TZID=America/Moncton:20230615T150000
DTSTAMP:20260421T155034
CREATED:20230502T142029Z
LAST-MODIFIED:20230502T142029Z
UID:10000153-1686817800-1686841200@gnmes.nbed.ca
SUMMARY:Fun Day - Rain Date
DESCRIPTION:
URL:https://gnmes.nbed.ca/calendar/fun-day-rain-date/
CATEGORIES:Current Students
END:VEVENT
BEGIN:VEVENT
DTSTART;TZID=America/Moncton:20230619T110000
DTEND;TZID=America/Moncton:20230619T130000
DTSTAMP:20260421T155034
CREATED:20230502T142150Z
LAST-MODIFIED:20230605T143952Z
UID:10000154-1687172400-1687179600@gnmes.nbed.ca
SUMMARY:School Picnic for Students & Staff
DESCRIPTION:Classes will enjoy a fruit tray and a popsicle courtesy of Home & School.
URL:https://gnmes.nbed.ca/calendar/school-picnic-for-students-staff/
CATEGORIES:Current Students
END:VEVENT
BEGIN:VEVENT
DTSTART;TZID=America/Moncton:20230621T103000
DTEND;TZID=America/Moncton:20230621T113000
DTSTAMP:20260421T155034
CREATED:20230607T121225Z
LAST-MODIFIED:20230607T121226Z
UID:10000156-1687343400-1687347000@gnmes.nbed.ca
SUMMARY:Grade 5 Celebration
DESCRIPTION:
URL:https://gnmes.nbed.ca/calendar/grade-5-celebration/
CATEGORIES:Current Students
END:VEVENT
BEGIN:VEVENT
DTSTART;TZID=America/Moncton:20230622T130000
DTEND;TZID=America/Moncton:20230622T134500
DTSTAMP:20260421T155034
CREATED:20230613T123256Z
LAST-MODIFIED:20230613T123257Z
UID:10000157-1687438800-1687441500@gnmes.nbed.ca
SUMMARY:Grade 12 GNMES Alumni Celebration
DESCRIPTION:
URL:https://gnmes.nbed.ca/calendar/grade-12-gnmes-alumni-celebration/
END:VEVENT
BEGIN:VEVENT
DTSTART;TZID=America/Moncton:20230623T000000
DTEND;TZID=America/Moncton:20230623T235959
DTSTAMP:20260421T155034
CREATED:20220502T161804Z
LAST-MODIFIED:20220921T123110Z
UID:10000096-1687478400-1687564799@gnmes.nbed.ca
SUMMARY:Last Day of Classes
DESCRIPTION:
URL:https://gnmes.nbed.ca/calendar/last-day-of-classes/
END:VEVENT
END:VCALENDAR