BEGIN:VCALENDAR
VERSION:2.0
PRODID:-//Gibson-Neill Memorial Elementary School - ECPv6.15.20//NONSGML v1.0//EN
CALSCALE:GREGORIAN
METHOD:PUBLISH
X-ORIGINAL-URL:https://gnmes.nbed.ca
X-WR-CALDESC:Events for Gibson-Neill Memorial Elementary School
REFRESH-INTERVAL;VALUE=DURATION:PT1H
X-Robots-Tag:noindex
X-PUBLISHED-TTL:PT1H
BEGIN:VTIMEZONE
TZID:America/Moncton
BEGIN:DAYLIGHT
TZOFFSETFROM:-0400
TZOFFSETTO:-0300
TZNAME:ADT
DTSTART:20220313T060000
END:DAYLIGHT
BEGIN:STANDARD
TZOFFSETFROM:-0300
TZOFFSETTO:-0400
TZNAME:AST
DTSTART:20221106T050000
END:STANDARD
BEGIN:DAYLIGHT
TZOFFSETFROM:-0400
TZOFFSETTO:-0300
TZNAME:ADT
DTSTART:20230312T060000
END:DAYLIGHT
BEGIN:STANDARD
TZOFFSETFROM:-0300
TZOFFSETTO:-0400
TZNAME:AST
DTSTART:20231105T050000
END:STANDARD
BEGIN:DAYLIGHT
TZOFFSETFROM:-0400
TZOFFSETTO:-0300
TZNAME:ADT
DTSTART:20240310T060000
END:DAYLIGHT
BEGIN:STANDARD
TZOFFSETFROM:-0300
TZOFFSETTO:-0400
TZNAME:AST
DTSTART:20241103T050000
END:STANDARD
END:VTIMEZONE
BEGIN:VEVENT
DTSTART;TZID=America/Moncton:20230109T000000
DTEND;TZID=America/Moncton:20230109T235959
DTSTAMP:20260421T234604
CREATED:20220502T161143Z
LAST-MODIFIED:20220921T131619Z
UID:10000090-1673222400-1673308799@gnmes.nbed.ca
SUMMARY:First Day of Classes
DESCRIPTION:
URL:https://gnmes.nbed.ca/calendar/first-day-of-classes-2/
END:VEVENT
BEGIN:VEVENT
DTSTART;TZID=America/Moncton:20230109T080000
DTEND;TZID=America/Moncton:20230109T170000
DTSTAMP:20260421T234604
CREATED:20221118T145552Z
LAST-MODIFIED:20221118T145555Z
UID:10000102-1673251200-1673283600@gnmes.nbed.ca
SUMMARY:Students Return
DESCRIPTION:
URL:https://gnmes.nbed.ca/calendar/students-return/
CATEGORIES:Current Students
END:VEVENT
BEGIN:VEVENT
DTSTART;TZID=America/Moncton:20230126T083000
DTEND;TZID=America/Moncton:20230126T150000
DTSTAMP:20260421T234604
CREATED:20230120T154612Z
LAST-MODIFIED:20230125T155419Z
UID:10000109-1674721800-1674745200@gnmes.nbed.ca
SUMMARY:Morrison & Porter Skiing - Postponed
DESCRIPTION:Event postponed from January 26th
URL:https://gnmes.nbed.ca/calendar/morrison-porter-skiing/
CATEGORIES:Extracurricular
END:VEVENT
BEGIN:VEVENT
DTSTART;TZID=America/Moncton:20230127T074000
DTEND;TZID=America/Moncton:20230127T081000
DTSTAMP:20260421T234604
CREATED:20230123T141738Z
LAST-MODIFIED:20230123T141753Z
UID:10000115-1674805200-1674807000@gnmes.nbed.ca
SUMMARY:Bottle Drive
DESCRIPTION:Our grade 5 classes will be holding their bottle drive this Friday\, January 27 during morning drop off from 7:40 – 8:10 am.  Teachers and students will be at the end of the kiss and drop lane to take your bottles. \n\n\n\nThank you for your support!
URL:https://gnmes.nbed.ca/calendar/bottle-drive/
CATEGORIES:Current Students
END:VEVENT
BEGIN:VEVENT
DTSTART;TZID=America/Moncton:20230127T083000
DTEND;TZID=America/Moncton:20230127T150000
DTSTAMP:20260421T234604
CREATED:20230120T154740Z
LAST-MODIFIED:20230120T154743Z
UID:10000110-1674808200-1674831600@gnmes.nbed.ca
SUMMARY:Levesque\, LaCosta & Keoughan Skiing
DESCRIPTION:
URL:https://gnmes.nbed.ca/calendar/levesque-lacosta-keoughan-skiing/
CATEGORIES:Extracurricular
END:VEVENT
BEGIN:VEVENT
DTSTART;TZID=America/Moncton:20230130T080000
DTEND;TZID=America/Moncton:20230130T170000
DTSTAMP:20260421T234604
CREATED:20230125T155033Z
LAST-MODIFIED:20230125T155047Z
UID:10000116-1675065600-1675098000@gnmes.nbed.ca
SUMMARY:Pink Shirt Orders Due
DESCRIPTION:
URL:https://gnmes.nbed.ca/calendar/pink-shirt-orders-due/
CATEGORIES:Current Students
END:VEVENT
END:VCALENDAR