BEGIN:VCALENDAR
VERSION:2.0
PRODID:-//Gibson-Neill Memorial Elementary School - ECPv6.15.20//NONSGML v1.0//EN
CALSCALE:GREGORIAN
METHOD:PUBLISH
X-WR-CALNAME:Gibson-Neill Memorial Elementary School
X-ORIGINAL-URL:https://gnmes.nbed.ca
X-WR-CALDESC:Events for Gibson-Neill Memorial Elementary School
REFRESH-INTERVAL;VALUE=DURATION:PT1H
X-Robots-Tag:noindex
X-PUBLISHED-TTL:PT1H
BEGIN:VTIMEZONE
TZID:America/Moncton
BEGIN:DAYLIGHT
TZOFFSETFROM:-0400
TZOFFSETTO:-0300
TZNAME:ADT
DTSTART:20220313T060000
END:DAYLIGHT
BEGIN:STANDARD
TZOFFSETFROM:-0300
TZOFFSETTO:-0400
TZNAME:AST
DTSTART:20221106T050000
END:STANDARD
BEGIN:DAYLIGHT
TZOFFSETFROM:-0400
TZOFFSETTO:-0300
TZNAME:ADT
DTSTART:20230312T060000
END:DAYLIGHT
BEGIN:STANDARD
TZOFFSETFROM:-0300
TZOFFSETTO:-0400
TZNAME:AST
DTSTART:20231105T050000
END:STANDARD
BEGIN:DAYLIGHT
TZOFFSETFROM:-0400
TZOFFSETTO:-0300
TZNAME:ADT
DTSTART:20240310T060000
END:DAYLIGHT
BEGIN:STANDARD
TZOFFSETFROM:-0300
TZOFFSETTO:-0400
TZNAME:AST
DTSTART:20241103T050000
END:STANDARD
BEGIN:DAYLIGHT
TZOFFSETFROM:-0400
TZOFFSETTO:-0300
TZNAME:ADT
DTSTART:20250309T060000
END:DAYLIGHT
BEGIN:STANDARD
TZOFFSETFROM:-0300
TZOFFSETTO:-0400
TZNAME:AST
DTSTART:20251102T050000
END:STANDARD
END:VTIMEZONE
BEGIN:VEVENT
DTSTART;TZID=America/Moncton:20240226T080000
DTEND;TZID=America/Moncton:20240301T160000
DTSTAMP:20260420T012058
CREATED:20240126T124248Z
LAST-MODIFIED:20240126T124248Z
UID:10000245-1708934400-1709308800@gnmes.nbed.ca
SUMMARY:Coyote Fun Week
DESCRIPTION:
URL:https://gnmes.nbed.ca/calendar/coyote-fun-week/
CATEGORIES:Current Students
END:VEVENT
BEGIN:VEVENT
DTSTART;TZID=America/Moncton:20240226T080000
DTEND;TZID=America/Moncton:20240226T170000
DTSTAMP:20260420T012058
CREATED:20240126T124417Z
LAST-MODIFIED:20240126T124534Z
UID:10000246-1708934400-1708966800@gnmes.nbed.ca
SUMMARY:Tropical Day
DESCRIPTION:Wish it was summer?  Dress in your tropical best!
URL:https://gnmes.nbed.ca/calendar/tropical-day/
END:VEVENT
BEGIN:VEVENT
DTSTART;TZID=America/Moncton:20240223T174500
DTEND;TZID=America/Moncton:20240223T200000
DTSTAMP:20260420T012058
CREATED:20240205T121443Z
LAST-MODIFIED:20240205T121443Z
UID:10000254-1708710300-1708718400@gnmes.nbed.ca
SUMMARY:Family Movie Night
DESCRIPTION:
URL:https://gnmes.nbed.ca/calendar/family-movie-night/
CATEGORIES:Current Students,HSA
ATTACH;FMTTYPE=image/png:https://gnmes.nbed.ca/wp-content/uploads/sites/34/2024/02/Trolls.png
END:VEVENT
BEGIN:VEVENT
DTSTART;TZID=America/Moncton:20240222T183000
DTEND;TZID=America/Moncton:20240222T193000
DTSTAMP:20260420T012058
CREATED:20240114T133051Z
LAST-MODIFIED:20240114T133052Z
UID:10000227-1708626600-1708630200@gnmes.nbed.ca
SUMMARY:PSSC Meeting
DESCRIPTION:
URL:https://gnmes.nbed.ca/calendar/pssc-meeting-7/
END:VEVENT
BEGIN:VEVENT
DTSTART;TZID=America/Moncton:20240219T000000
DTEND;TZID=America/Moncton:20240219T235900
DTSTAMP:20260420T012058
CREATED:20230616T122458Z
LAST-MODIFIED:20230620T120142Z
UID:10000170-1708300800-1708387140@gnmes.nbed.ca
SUMMARY:Family Day
DESCRIPTION:Schools closed.
URL:https://gnmes.nbed.ca/calendar/family-day-2/
CATEGORIES:Current Students
END:VEVENT
BEGIN:VEVENT
DTSTART;TZID=America/Moncton:20240216T090000
DTEND;TZID=America/Moncton:20240216T120000
DTSTAMP:20260420T012058
CREATED:20240115T130817Z
LAST-MODIFIED:20240115T130818Z
UID:10000238-1708074000-1708084800@gnmes.nbed.ca
SUMMARY:TNB "Sidewalk Chalk"
DESCRIPTION:
URL:https://gnmes.nbed.ca/calendar/tnb-sidewalk-chalk/
END:VEVENT
BEGIN:VEVENT
DTSTART;TZID=America/Moncton:20240216T080000
DTEND;TZID=America/Moncton:20240216T170000
DTSTAMP:20260420T012058
CREATED:20231203T112803Z
LAST-MODIFIED:20231203T112804Z
UID:10000225-1708070400-1708102800@gnmes.nbed.ca
SUMMARY:TNB Young Company Shows for Grades 2-5
DESCRIPTION:
URL:https://gnmes.nbed.ca/calendar/tnb-young-company-shows-for-grades-2-5/
END:VEVENT
BEGIN:VEVENT
DTSTART;TZID=America/Moncton:20240214T090000
DTEND;TZID=America/Moncton:20240214T160000
DTSTAMP:20260420T012058
CREATED:20240115T131417Z
LAST-MODIFIED:20240115T131418Z
UID:10000239-1707901200-1707926400@gnmes.nbed.ca
SUMMARY:District 2 Ball Finals - Grades 3-5
DESCRIPTION:
URL:https://gnmes.nbed.ca/calendar/district-2-ball-finals-grades-3-5/
END:VEVENT
BEGIN:VEVENT
DTSTART;TZID=America/Moncton:20240212T090000
DTEND;TZID=America/Moncton:20240212T120000
DTSTAMP:20260420T012058
CREATED:20240115T123659Z
LAST-MODIFIED:20240115T123701Z
UID:10000232-1707728400-1707739200@gnmes.nbed.ca
SUMMARY:Grade 5 Swimming
DESCRIPTION:
URL:https://gnmes.nbed.ca/calendar/grade-5-swimming/2024-02-12/
END:VEVENT
BEGIN:VEVENT
DTSTART;TZID=America/Moncton:20240212T080000
DTEND;TZID=America/Moncton:20240216T160000
DTSTAMP:20260420T012058
CREATED:20240115T130540Z
LAST-MODIFIED:20240115T130541Z
UID:10000237-1707724800-1708099200@gnmes.nbed.ca
SUMMARY:Staff Appreciation Week
DESCRIPTION:
URL:https://gnmes.nbed.ca/calendar/staff-appreciation-week/
END:VEVENT
BEGIN:VEVENT
DTSTART;TZID=America/Moncton:20240209T083000
DTEND;TZID=America/Moncton:20240209T150000
DTSTAMP:20260420T012058
CREATED:20240115T130355Z
LAST-MODIFIED:20240115T130355Z
UID:10000236-1707467400-1707490800@gnmes.nbed.ca
SUMMARY:Grade 4 Skiing
DESCRIPTION:at Crabbe Mountain
URL:https://gnmes.nbed.ca/calendar/grade-4-skiing-2/
END:VEVENT
BEGIN:VEVENT
DTSTART;TZID=America/Moncton:20240205T090000
DTEND;TZID=America/Moncton:20240205T120000
DTSTAMP:20260420T012058
CREATED:20240115T123659Z
LAST-MODIFIED:20240115T123701Z
UID:10000231-1707123600-1707134400@gnmes.nbed.ca
SUMMARY:Grade 5 Swimming
DESCRIPTION:
URL:https://gnmes.nbed.ca/calendar/grade-5-swimming/2024-02-05/
END:VEVENT
BEGIN:VEVENT
DTSTART;TZID=America/Moncton:20240202T110000
DTEND;TZID=America/Moncton:20240202T114000
DTSTAMP:20260420T012058
CREATED:20240115T125718Z
LAST-MODIFIED:20240115T125719Z
UID:10000235-1706871600-1706874000@gnmes.nbed.ca
SUMMARY:Shawl Dance & Drumming Assembly
DESCRIPTION:
URL:https://gnmes.nbed.ca/calendar/shawl-dance-drumming-assembly/
END:VEVENT
BEGIN:VEVENT
DTSTART;TZID=America/Moncton:20240201T080000
DTEND;TZID=America/Moncton:20240201T170000
DTSTAMP:20260420T012058
CREATED:20231203T112149Z
LAST-MODIFIED:20231203T112150Z
UID:10000222-1706774400-1706806800@gnmes.nbed.ca
SUMMARY:Home & School Coffee Fundraiser Begins
DESCRIPTION:
URL:https://gnmes.nbed.ca/calendar/home-school-coffee-fundraiser-begins/
END:VEVENT
BEGIN:VEVENT
DTSTART;TZID=America/Moncton:20240131T081500
DTEND;TZID=America/Moncton:20240131T163000
DTSTAMP:20260420T012058
CREATED:20230616T122312Z
LAST-MODIFIED:20230620T120159Z
UID:10000169-1706688900-1706718600@gnmes.nbed.ca
SUMMARY:First Day of Second Semester
DESCRIPTION:
URL:https://gnmes.nbed.ca/calendar/first-day-of-second-semester/
CATEGORIES:Current Students
END:VEVENT
BEGIN:VEVENT
DTSTART;TZID=America/Moncton:20240129T090000
DTEND;TZID=America/Moncton:20240129T120000
DTSTAMP:20260420T012058
CREATED:20240115T123659Z
LAST-MODIFIED:20240115T123701Z
UID:10000230-1706518800-1706529600@gnmes.nbed.ca
SUMMARY:Grade 5 Swimming
DESCRIPTION:
URL:https://gnmes.nbed.ca/calendar/grade-5-swimming/2024-01-29/
END:VEVENT
BEGIN:VEVENT
DTSTART;TZID=America/Moncton:20240126T081500
DTEND;TZID=America/Moncton:20240126T163000
DTSTAMP:20260420T012058
CREATED:20230616T122152Z
LAST-MODIFIED:20230620T120132Z
UID:10000168-1706256900-1706286600@gnmes.nbed.ca
SUMMARY:Last Day of First Semester
DESCRIPTION:
URL:https://gnmes.nbed.ca/calendar/last-day-of-1st-semester-2/
CATEGORIES:Current Students
END:VEVENT
BEGIN:VEVENT
DTSTART;TZID=America/Moncton:20240125T180000
DTEND;TZID=America/Moncton:20240125T190000
DTSTAMP:20260420T012058
CREATED:20240115T125525Z
LAST-MODIFIED:20240115T125525Z
UID:10000234-1706205600-1706209200@gnmes.nbed.ca
SUMMARY:ASD-W DEC Meeting
DESCRIPTION:
URL:https://gnmes.nbed.ca/calendar/asd-w-dec-meeting/
END:VEVENT
BEGIN:VEVENT
DTSTART;TZID=America/Moncton:20240125T083000
DTEND;TZID=America/Moncton:20240125T150000
DTSTAMP:20260420T012058
CREATED:20240115T123905Z
LAST-MODIFIED:20240115T123936Z
UID:10000233-1706171400-1706194800@gnmes.nbed.ca
SUMMARY:Grade 4 Skiing
DESCRIPTION:at Crabbe Mountain
URL:https://gnmes.nbed.ca/calendar/grade-4-skiing/
END:VEVENT
BEGIN:VEVENT
DTSTART;TZID=America/Moncton:20240122T090000
DTEND;TZID=America/Moncton:20240122T120000
DTSTAMP:20260420T012058
CREATED:20240115T123659Z
LAST-MODIFIED:20240115T123701Z
UID:10000229-1705914000-1705924800@gnmes.nbed.ca
SUMMARY:Grade 5 Swimming
DESCRIPTION:
URL:https://gnmes.nbed.ca/calendar/grade-5-swimming/2024-01-22/
END:VEVENT
BEGIN:VEVENT
DTSTART;TZID=America/Moncton:20240118T183000
DTEND;TZID=America/Moncton:20240118T193000
DTSTAMP:20260420T012058
CREATED:20231117T174229Z
LAST-MODIFIED:20231117T174230Z
UID:10000207-1705602600-1705606200@gnmes.nbed.ca
SUMMARY:Home & School Committee Meeting
DESCRIPTION:
URL:https://gnmes.nbed.ca/calendar/home-school-committee-meeting/
END:VEVENT
BEGIN:VEVENT
DTSTART;TZID=America/Moncton:20240115T090000
DTEND;TZID=America/Moncton:20240115T120000
DTSTAMP:20260420T012058
CREATED:20240115T123659Z
LAST-MODIFIED:20240115T123701Z
UID:10000228-1705309200-1705320000@gnmes.nbed.ca
SUMMARY:Grade 5 Swimming
DESCRIPTION:
URL:https://gnmes.nbed.ca/calendar/grade-5-swimming/2024-01-15/
END:VEVENT
BEGIN:VEVENT
DTSTART;TZID=America/Moncton:20240112T074000
DTEND;TZID=America/Moncton:20240112T081000
DTSTAMP:20260420T012058
CREATED:20240108T112656Z
LAST-MODIFIED:20240108T112657Z
UID:10000226-1705045200-1705047000@gnmes.nbed.ca
SUMMARY:Bottle Drive for Grade 5 Field Trip
DESCRIPTION:
URL:https://gnmes.nbed.ca/calendar/bottle-drive-for-grade-5-field-trip/
END:VEVENT
BEGIN:VEVENT
DTSTART;TZID=America/Moncton:20240111T183000
DTEND;TZID=America/Moncton:20240111T193000
DTSTAMP:20260420T012058
CREATED:20231203T112020Z
LAST-MODIFIED:20231203T112021Z
UID:10000221-1704997800-1705001400@gnmes.nbed.ca
SUMMARY:PSSC Meeting
DESCRIPTION:
URL:https://gnmes.nbed.ca/calendar/pssc-meeting-6/
END:VEVENT
BEGIN:VEVENT
DTSTART;TZID=America/Moncton:20240108T081500
DTEND;TZID=America/Moncton:20240108T163000
DTSTAMP:20260420T012058
CREATED:20230616T122053Z
LAST-MODIFIED:20230620T120125Z
UID:10000167-1704701700-1704731400@gnmes.nbed.ca
SUMMARY:First Day of Classes
DESCRIPTION:
URL:https://gnmes.nbed.ca/calendar/first-day-of-classes-3/
CATEGORIES:Current Students
END:VEVENT
BEGIN:VEVENT
DTSTART;TZID=America/Moncton:20231222T081500
DTEND;TZID=America/Moncton:20231222T120000
DTSTAMP:20260420T012058
CREATED:20230616T122006Z
LAST-MODIFIED:20230620T120117Z
UID:10000166-1703232900-1703246400@gnmes.nbed.ca
SUMMARY:Last Day of Classes (Half Day)
DESCRIPTION:
URL:https://gnmes.nbed.ca/calendar/last-day-of-classes-half-day-2/
CATEGORIES:Current Students
END:VEVENT
BEGIN:VEVENT
DTSTART;TZID=America/Moncton:20231222T080000
DTEND;TZID=America/Moncton:20231222T120000
DTSTAMP:20260420T012058
CREATED:20231203T111525Z
LAST-MODIFIED:20231203T111526Z
UID:10000216-1703232000-1703246400@gnmes.nbed.ca
SUMMARY:Pajama Dress Up Day
DESCRIPTION:
URL:https://gnmes.nbed.ca/calendar/pajama-dress-up-day/
END:VEVENT
BEGIN:VEVENT
DTSTART;TZID=America/Moncton:20231221T080000
DTEND;TZID=America/Moncton:20231221T150000
DTSTAMP:20260420T012058
CREATED:20231203T111830Z
LAST-MODIFIED:20231203T111831Z
UID:10000220-1703145600-1703170800@gnmes.nbed.ca
SUMMARY:Crazy Hair / Hat Day
DESCRIPTION:
URL:https://gnmes.nbed.ca/calendar/crazy-hair-hat-day/
END:VEVENT
BEGIN:VEVENT
DTSTART;TZID=America/Moncton:20231220T080000
DTEND;TZID=America/Moncton:20231220T150000
DTSTAMP:20260420T012058
CREATED:20231203T111805Z
LAST-MODIFIED:20231203T111806Z
UID:10000219-1703059200-1703084400@gnmes.nbed.ca
SUMMARY:Elf Dress Up Day
DESCRIPTION:
URL:https://gnmes.nbed.ca/calendar/elf-dress-up-day/
END:VEVENT
BEGIN:VEVENT
DTSTART;TZID=America/Moncton:20231219T080000
DTEND;TZID=America/Moncton:20231219T150000
DTSTAMP:20260420T012058
CREATED:20231203T111741Z
LAST-MODIFIED:20231203T111742Z
UID:10000218-1702972800-1702998000@gnmes.nbed.ca
SUMMARY:Everything Holiday Dress Up Day
DESCRIPTION:
URL:https://gnmes.nbed.ca/calendar/everything-holiday-dress-up-day/
END:VEVENT
END:VCALENDAR