BEGIN:VCALENDAR
VERSION:2.0
PRODID:-//Gibson-Neill Memorial Elementary School - ECPv6.15.20//NONSGML v1.0//EN
CALSCALE:GREGORIAN
METHOD:PUBLISH
X-WR-CALNAME:Gibson-Neill Memorial Elementary School
X-ORIGINAL-URL:https://gnmes.nbed.ca
X-WR-CALDESC:Events for Gibson-Neill Memorial Elementary School
REFRESH-INTERVAL;VALUE=DURATION:PT1H
X-Robots-Tag:noindex
X-PUBLISHED-TTL:PT1H
BEGIN:VTIMEZONE
TZID:America/Moncton
BEGIN:DAYLIGHT
TZOFFSETFROM:-0400
TZOFFSETTO:-0300
TZNAME:ADT
DTSTART:20230312T060000
END:DAYLIGHT
BEGIN:STANDARD
TZOFFSETFROM:-0300
TZOFFSETTO:-0400
TZNAME:AST
DTSTART:20231105T050000
END:STANDARD
BEGIN:DAYLIGHT
TZOFFSETFROM:-0400
TZOFFSETTO:-0300
TZNAME:ADT
DTSTART:20240310T060000
END:DAYLIGHT
BEGIN:STANDARD
TZOFFSETFROM:-0300
TZOFFSETTO:-0400
TZNAME:AST
DTSTART:20241103T050000
END:STANDARD
BEGIN:DAYLIGHT
TZOFFSETFROM:-0400
TZOFFSETTO:-0300
TZNAME:ADT
DTSTART:20250309T060000
END:DAYLIGHT
BEGIN:STANDARD
TZOFFSETFROM:-0300
TZOFFSETTO:-0400
TZNAME:AST
DTSTART:20251102T050000
END:STANDARD
END:VTIMEZONE
BEGIN:VEVENT
DTSTART;TZID=America/Moncton:20240509T083000
DTEND;TZID=America/Moncton:20240509T150000
DTSTAMP:20260420T012058
CREATED:20240315T124320Z
LAST-MODIFIED:20240315T124321Z
UID:10000259-1715243400-1715266800@gnmes.nbed.ca
SUMMARY:Power Play Market
DESCRIPTION:
URL:https://gnmes.nbed.ca/calendar/power-play-market/
CATEGORIES:Current Students
END:VEVENT
BEGIN:VEVENT
DTSTART;TZID=America/Moncton:20240503T081500
DTEND;TZID=America/Moncton:20240503T163000
DTSTAMP:20260420T012058
CREATED:20230616T123015Z
LAST-MODIFIED:20230620T120236Z
UID:10000175-1714724100-1714753800@gnmes.nbed.ca
SUMMARY:Council Day
DESCRIPTION:Teachers and administrators ONLY.
URL:https://gnmes.nbed.ca/calendar/council-day-2/
CATEGORIES:Current Students
END:VEVENT
BEGIN:VEVENT
DTSTART;TZID=America/Moncton:20240503T080000
DTEND;TZID=America/Moncton:20240503T170000
DTSTAMP:20260420T012058
CREATED:20240315T124520Z
LAST-MODIFIED:20240315T124521Z
UID:10000261-1714723200-1714755600@gnmes.nbed.ca
SUMMARY:NBTA Council Day
DESCRIPTION:No school for students
URL:https://gnmes.nbed.ca/calendar/nbta-council-day/
END:VEVENT
BEGIN:VEVENT
DTSTART;TZID=America/Moncton:20240429T090000
DTEND;TZID=America/Moncton:20240429T120000
DTSTAMP:20260420T012058
CREATED:20240115T131905Z
LAST-MODIFIED:20240115T131906Z
UID:10000244-1714381200-1714392000@gnmes.nbed.ca
SUMMARY:Grade 1 Prime to Playhouse
DESCRIPTION:
URL:https://gnmes.nbed.ca/calendar/grade-1-prime-to-playhouse/
END:VEVENT
BEGIN:VEVENT
DTSTART;TZID=America/Moncton:20240426T180000
DTEND;TZID=America/Moncton:20240426T190000
DTSTAMP:20260420T012058
CREATED:20240408T105441Z
LAST-MODIFIED:20240408T105513Z
UID:10000272-1714154400-1714158000@gnmes.nbed.ca
SUMMARY:Glow Stick Dance
DESCRIPTION:
URL:https://gnmes.nbed.ca/calendar/glow-stick-dance/
ATTACH;FMTTYPE=image/png:https://gnmes.nbed.ca/wp-content/uploads/sites/34/2024/04/Blue-and-Pink-Neon-Night-Party-Event-Poster-2.png
END:VEVENT
BEGIN:VEVENT
DTSTART;TZID=America/Moncton:20240419T083000
DTEND;TZID=America/Moncton:20240419T120000
DTSTAMP:20260420T012058
CREATED:20240325T151943Z
LAST-MODIFIED:20240325T151944Z
UID:10000271-1713515400-1713528000@gnmes.nbed.ca
SUMMARY:Book Fair
DESCRIPTION:
URL:https://gnmes.nbed.ca/calendar/book-fair-12/
CATEGORIES:Current Students
ATTACH;FMTTYPE=image/jpeg:https://gnmes.nbed.ca/wp-content/uploads/sites/34/2024/03/Book-Fair-April-2024.jpg
END:VEVENT
BEGIN:VEVENT
DTSTART;TZID=America/Moncton:20240418T083000
DTEND;TZID=America/Moncton:20240418T150000
DTSTAMP:20260420T012058
CREATED:20240325T151900Z
LAST-MODIFIED:20240325T151902Z
UID:10000270-1713429000-1713452400@gnmes.nbed.ca
SUMMARY:Book Fair
DESCRIPTION:
URL:https://gnmes.nbed.ca/calendar/book-fair-11/
CATEGORIES:Current Students
ATTACH;FMTTYPE=image/jpeg:https://gnmes.nbed.ca/wp-content/uploads/sites/34/2024/03/Book-Fair-April-2024.jpg
END:VEVENT
BEGIN:VEVENT
DTSTART;TZID=America/Moncton:20240417T083000
DTEND;TZID=America/Moncton:20240417T233000
DTSTAMP:20260420T012058
CREATED:20240325T151824Z
LAST-MODIFIED:20240325T151826Z
UID:10000269-1713342600-1713396600@gnmes.nbed.ca
SUMMARY:Book Fair
DESCRIPTION:
URL:https://gnmes.nbed.ca/calendar/book-fair-10/
CATEGORIES:Current Students
ATTACH;FMTTYPE=image/jpeg:https://gnmes.nbed.ca/wp-content/uploads/sites/34/2024/03/Book-Fair-April-2024.jpg
END:VEVENT
BEGIN:VEVENT
DTSTART;TZID=America/Moncton:20240416T083000
DTEND;TZID=America/Moncton:20240416T150000
DTSTAMP:20260420T012058
CREATED:20240325T151742Z
LAST-MODIFIED:20240325T151744Z
UID:10000268-1713256200-1713279600@gnmes.nbed.ca
SUMMARY:Book Fair
DESCRIPTION:
URL:https://gnmes.nbed.ca/calendar/book-fair-9/
CATEGORIES:Current Students
ATTACH;FMTTYPE=image/jpeg:https://gnmes.nbed.ca/wp-content/uploads/sites/34/2024/03/Book-Fair-April-2024.jpg
END:VEVENT
BEGIN:VEVENT
DTSTART;TZID=America/Moncton:20240415T160000
DTEND;TZID=America/Moncton:20240415T180000
DTSTAMP:20260420T012058
CREATED:20240325T150358Z
LAST-MODIFIED:20240325T150359Z
UID:10000267-1713196800-1713204000@gnmes.nbed.ca
SUMMARY:Book Fair
DESCRIPTION:
URL:https://gnmes.nbed.ca/calendar/book-fair-8/
CATEGORIES:Current Students
ATTACH;FMTTYPE=image/jpeg:https://gnmes.nbed.ca/wp-content/uploads/sites/34/2024/03/Book-Fair-April-2024.jpg
END:VEVENT
BEGIN:VEVENT
DTSTART;TZID=America/Moncton:20240415T083000
DTEND;TZID=America/Moncton:20240415T160000
DTSTAMP:20260420T012058
CREATED:20240115T131806Z
LAST-MODIFIED:20240115T131807Z
UID:10000243-1713169800-1713196800@gnmes.nbed.ca
SUMMARY:No School - Student Lead Conferences
DESCRIPTION:
URL:https://gnmes.nbed.ca/calendar/no-school-student-lead-conferences/
END:VEVENT
BEGIN:VEVENT
DTSTART;TZID=America/Moncton:20240415T083000
DTEND;TZID=America/Moncton:20240415T123000
DTSTAMP:20260420T012058
CREATED:20240325T150230Z
LAST-MODIFIED:20240325T150232Z
UID:10000266-1713169800-1713184200@gnmes.nbed.ca
SUMMARY:Book Fair
DESCRIPTION:
URL:https://gnmes.nbed.ca/calendar/book-fair-7/
CATEGORIES:Current Students
ATTACH;FMTTYPE=image/jpeg:https://gnmes.nbed.ca/wp-content/uploads/sites/34/2024/03/Book-Fair-April-2024.jpg
END:VEVENT
BEGIN:VEVENT
DTSTART;TZID=America/Moncton:20240411T080000
DTEND;TZID=America/Moncton:20240411T170000
DTSTAMP:20260420T012058
CREATED:20240115T131703Z
LAST-MODIFIED:20240115T131704Z
UID:10000242-1712822400-1712854800@gnmes.nbed.ca
SUMMARY:Report Cards
DESCRIPTION:
URL:https://gnmes.nbed.ca/calendar/report-cards/
END:VEVENT
BEGIN:VEVENT
DTSTART;TZID=America/Moncton:20240408T100000
DTEND;TZID=America/Moncton:20240408T120500
DTSTAMP:20260420T012058
CREATED:20240314T152454Z
LAST-MODIFIED:20240314T152455Z
UID:10000258-1712570400-1712577900@gnmes.nbed.ca
SUMMARY:Solar Eclipse - Early Dismissal
DESCRIPTION:Students will be dismissed early due to total solar eclipse.  K-2 students will be dismissed at 10:50 and 3-5 students will be dismissed at 12:05
URL:https://gnmes.nbed.ca/calendar/solar-eclipse-early-dismissal/
CATEGORIES:Current Students
END:VEVENT
BEGIN:VEVENT
DTSTART;TZID=America/Moncton:20240401T000000
DTEND;TZID=America/Moncton:20240401T235900
DTSTAMP:20260420T012058
CREATED:20230616T122905Z
LAST-MODIFIED:20230620T120229Z
UID:10000173-1711929600-1712015940@gnmes.nbed.ca
SUMMARY:Easter Monday
DESCRIPTION:Schools closed.
URL:https://gnmes.nbed.ca/calendar/easter-monday-2/
CATEGORIES:Current Students
END:VEVENT
BEGIN:VEVENT
DTSTART;TZID=America/Moncton:20240329T000000
DTEND;TZID=America/Moncton:20240329T235900
DTSTAMP:20260420T012058
CREATED:20230616T122805Z
LAST-MODIFIED:20230620T120223Z
UID:10000172-1711670400-1711756740@gnmes.nbed.ca
SUMMARY:Good Friday
DESCRIPTION:Schools closed.
URL:https://gnmes.nbed.ca/calendar/good-friday-2/
CATEGORIES:Current Students
END:VEVENT
BEGIN:VEVENT
DTSTART;TZID=America/Moncton:20240325T080000
DTEND;TZID=America/Moncton:20240325T170000
DTSTAMP:20260420T012058
CREATED:20240115T131619Z
LAST-MODIFIED:20240115T131620Z
UID:10000241-1711353600-1711386000@gnmes.nbed.ca
SUMMARY:No School for Students
DESCRIPTION:
URL:https://gnmes.nbed.ca/calendar/no-school-for-students/
END:VEVENT
BEGIN:VEVENT
DTSTART;TZID=America/Moncton:20240322T104500
DTEND;TZID=America/Moncton:20240322T140000
DTSTAMP:20260420T012058
CREATED:20240216T132726Z
LAST-MODIFIED:20240216T132727Z
UID:10000255-1711104300-1711116000@gnmes.nbed.ca
SUMMARY:Razzmatazz
DESCRIPTION:Razzmatazz Concert (bilingual) 10:45 for K-2 classes\, 1:00 for grades 3-5 classes
URL:https://gnmes.nbed.ca/calendar/razzmatazz/
CATEGORIES:Current Students
END:VEVENT
BEGIN:VEVENT
DTSTART;TZID=America/Moncton:20240321T163000
DTEND;TZID=America/Moncton:20240321T173000
DTSTAMP:20260420T012058
CREATED:20240312T133859Z
LAST-MODIFIED:20240312T133901Z
UID:10000257-1711038600-1711042200@gnmes.nbed.ca
SUMMARY:Sistema Concert
DESCRIPTION:
URL:https://gnmes.nbed.ca/calendar/sistema-concert/
CATEGORIES:Extracurricular
ATTACH;FMTTYPE=image/jpeg:https://gnmes.nbed.ca/wp-content/uploads/sites/34/2024/03/Sistema-concert.jpg
END:VEVENT
BEGIN:VEVENT
DTSTART;TZID=America/Moncton:20240304T000000
DTEND;TZID=America/Moncton:20240308T235900
DTSTAMP:20260420T012058
CREATED:20230616T122718Z
LAST-MODIFIED:20230620T120217Z
UID:10000171-1709510400-1709942340@gnmes.nbed.ca
SUMMARY:March Break
DESCRIPTION:Schools closed.
URL:https://gnmes.nbed.ca/calendar/march-break-2/
CATEGORIES:Current Students
END:VEVENT
BEGIN:VEVENT
DTSTART;TZID=America/Moncton:20240301T080000
DTEND;TZID=America/Moncton:20240301T160000
DTSTAMP:20260420T012058
CREATED:20240126T124703Z
LAST-MODIFIED:20240126T124703Z
UID:10000249-1709280000-1709308800@gnmes.nbed.ca
SUMMARY:P.J. Day
DESCRIPTION:A student favorite!  You can even bring a stuffy to school.
URL:https://gnmes.nbed.ca/calendar/p-j-day/
END:VEVENT
BEGIN:VEVENT
DTSTART;TZID=America/Moncton:20240229T080000
DTEND;TZID=America/Moncton:20240229T160000
DTSTAMP:20260420T012058
CREATED:20240126T124628Z
LAST-MODIFIED:20240126T124629Z
UID:10000248-1709193600-1709222400@gnmes.nbed.ca
SUMMARY:Jersey Day
DESCRIPTION:Wear your favorite jersey or sports wear.
URL:https://gnmes.nbed.ca/calendar/jersey-day/
END:VEVENT
BEGIN:VEVENT
DTSTART;TZID=America/Moncton:20240228T080000
DTEND;TZID=America/Moncton:20240228T170000
DTSTAMP:20260420T012058
CREATED:20240115T131511Z
LAST-MODIFIED:20240115T131512Z
UID:10000240-1709107200-1709139600@gnmes.nbed.ca
SUMMARY:Pink Shirt Day
DESCRIPTION:
URL:https://gnmes.nbed.ca/calendar/pink-shirt-day-2/
END:VEVENT
BEGIN:VEVENT
DTSTART;TZID=America/Moncton:20240227T080000
DTEND;TZID=America/Moncton:20240227T170000
DTSTAMP:20260420T012058
CREATED:20240126T124452Z
LAST-MODIFIED:20240126T124452Z
UID:10000247-1709020800-1709053200@gnmes.nbed.ca
SUMMARY:Career Day
DESCRIPTION:Actor\, Singer\, Mechanic\, Teacher? Dress up as what you wish to be when you grow up!
URL:https://gnmes.nbed.ca/calendar/career-day/
END:VEVENT
BEGIN:VEVENT
DTSTART;TZID=America/Moncton:20240226T080000
DTEND;TZID=America/Moncton:20240301T160000
DTSTAMP:20260420T012058
CREATED:20240126T124248Z
LAST-MODIFIED:20240126T124248Z
UID:10000245-1708934400-1709308800@gnmes.nbed.ca
SUMMARY:Coyote Fun Week
DESCRIPTION:
URL:https://gnmes.nbed.ca/calendar/coyote-fun-week/
CATEGORIES:Current Students
END:VEVENT
BEGIN:VEVENT
DTSTART;TZID=America/Moncton:20240226T080000
DTEND;TZID=America/Moncton:20240226T170000
DTSTAMP:20260420T012058
CREATED:20240126T124417Z
LAST-MODIFIED:20240126T124534Z
UID:10000246-1708934400-1708966800@gnmes.nbed.ca
SUMMARY:Tropical Day
DESCRIPTION:Wish it was summer?  Dress in your tropical best!
URL:https://gnmes.nbed.ca/calendar/tropical-day/
END:VEVENT
BEGIN:VEVENT
DTSTART;TZID=America/Moncton:20240223T174500
DTEND;TZID=America/Moncton:20240223T200000
DTSTAMP:20260420T012058
CREATED:20240205T121443Z
LAST-MODIFIED:20240205T121443Z
UID:10000254-1708710300-1708718400@gnmes.nbed.ca
SUMMARY:Family Movie Night
DESCRIPTION:
URL:https://gnmes.nbed.ca/calendar/family-movie-night/
CATEGORIES:Current Students,HSA
ATTACH;FMTTYPE=image/png:https://gnmes.nbed.ca/wp-content/uploads/sites/34/2024/02/Trolls.png
END:VEVENT
BEGIN:VEVENT
DTSTART;TZID=America/Moncton:20240222T183000
DTEND;TZID=America/Moncton:20240222T193000
DTSTAMP:20260420T012058
CREATED:20240114T133051Z
LAST-MODIFIED:20240114T133052Z
UID:10000227-1708626600-1708630200@gnmes.nbed.ca
SUMMARY:PSSC Meeting
DESCRIPTION:
URL:https://gnmes.nbed.ca/calendar/pssc-meeting-7/
END:VEVENT
BEGIN:VEVENT
DTSTART;TZID=America/Moncton:20240219T000000
DTEND;TZID=America/Moncton:20240219T235900
DTSTAMP:20260420T012058
CREATED:20230616T122458Z
LAST-MODIFIED:20230620T120142Z
UID:10000170-1708300800-1708387140@gnmes.nbed.ca
SUMMARY:Family Day
DESCRIPTION:Schools closed.
URL:https://gnmes.nbed.ca/calendar/family-day-2/
CATEGORIES:Current Students
END:VEVENT
BEGIN:VEVENT
DTSTART;TZID=America/Moncton:20240216T090000
DTEND;TZID=America/Moncton:20240216T120000
DTSTAMP:20260420T012058
CREATED:20240115T130817Z
LAST-MODIFIED:20240115T130818Z
UID:10000238-1708074000-1708084800@gnmes.nbed.ca
SUMMARY:TNB "Sidewalk Chalk"
DESCRIPTION:
URL:https://gnmes.nbed.ca/calendar/tnb-sidewalk-chalk/
END:VEVENT
END:VCALENDAR