BEGIN:VCALENDAR
VERSION:2.0
PRODID:-//Gibson-Neill Memorial Elementary School - ECPv6.15.20//NONSGML v1.0//EN
CALSCALE:GREGORIAN
METHOD:PUBLISH
X-WR-CALNAME:Gibson-Neill Memorial Elementary School
X-ORIGINAL-URL:https://gnmes.nbed.ca
X-WR-CALDESC:Events for Gibson-Neill Memorial Elementary School
REFRESH-INTERVAL;VALUE=DURATION:PT1H
X-Robots-Tag:noindex
X-PUBLISHED-TTL:PT1H
BEGIN:VTIMEZONE
TZID:America/Moncton
BEGIN:DAYLIGHT
TZOFFSETFROM:-0400
TZOFFSETTO:-0300
TZNAME:ADT
DTSTART:20230312T060000
END:DAYLIGHT
BEGIN:STANDARD
TZOFFSETFROM:-0300
TZOFFSETTO:-0400
TZNAME:AST
DTSTART:20231105T050000
END:STANDARD
BEGIN:DAYLIGHT
TZOFFSETFROM:-0400
TZOFFSETTO:-0300
TZNAME:ADT
DTSTART:20240310T060000
END:DAYLIGHT
BEGIN:STANDARD
TZOFFSETFROM:-0300
TZOFFSETTO:-0400
TZNAME:AST
DTSTART:20241103T050000
END:STANDARD
BEGIN:DAYLIGHT
TZOFFSETFROM:-0400
TZOFFSETTO:-0300
TZNAME:ADT
DTSTART:20250309T060000
END:DAYLIGHT
BEGIN:STANDARD
TZOFFSETFROM:-0300
TZOFFSETTO:-0400
TZNAME:AST
DTSTART:20251102T050000
END:STANDARD
BEGIN:DAYLIGHT
TZOFFSETFROM:-0400
TZOFFSETTO:-0300
TZNAME:ADT
DTSTART:20260308T060000
END:DAYLIGHT
BEGIN:STANDARD
TZOFFSETFROM:-0300
TZOFFSETTO:-0400
TZNAME:AST
DTSTART:20261101T050000
END:STANDARD
END:VTIMEZONE
BEGIN:VEVENT
DTSTART;TZID=America/Moncton:20250923T080000
DTEND;TZID=America/Moncton:20250923T120000
DTSTAMP:20260419T165337
CREATED:20250905T115727Z
LAST-MODIFIED:20250908T112030Z
UID:10000303-1758614400-1758628800@gnmes.nbed.ca
SUMMARY:School Picture Day
DESCRIPTION:Harvey Studio will be here for photos in the morning for student and staff photos. Proofs will now be professionally printed directly at Harvey Studio and then shipped to our school\, rather than being produced on-site during photo day.  Parents & guardians will receive the photo proof once they are delivered to the school..
URL:https://gnmes.nbed.ca/calendar/school-picture-day/
END:VEVENT
BEGIN:VEVENT
DTSTART;TZID=America/Moncton:20250828T160000
DTEND;TZID=America/Moncton:20250828T173000
DTSTAMP:20260419T165337
CREATED:20250612T145757Z
LAST-MODIFIED:20250612T145759Z
UID:10000301-1756396800-1756402200@gnmes.nbed.ca
SUMMARY:Meet the Staff Open House
DESCRIPTION:
URL:https://gnmes.nbed.ca/calendar/meet-the-staff-open-house/
END:VEVENT
BEGIN:VEVENT
DTSTART;TZID=America/Moncton:20250618T111500
DTEND;TZID=America/Moncton:20250618T122500
DTSTAMP:20260419T165337
CREATED:20250612T145643Z
LAST-MODIFIED:20250612T145645Z
UID:10000300-1750245300-1750249500@gnmes.nbed.ca
SUMMARY:Grade 5 Celebration
DESCRIPTION:
URL:https://gnmes.nbed.ca/calendar/grade-5-celebration-3/
END:VEVENT
BEGIN:VEVENT
DTSTART;TZID=America/Moncton:20250616T121500
DTEND;TZID=America/Moncton:20250616T131500
DTSTAMP:20260419T165337
CREATED:20250612T145202Z
LAST-MODIFIED:20250612T145352Z
UID:10000298-1750076100-1750079700@gnmes.nbed.ca
SUMMARY:Family Picnic
DESCRIPTION:
URL:https://gnmes.nbed.ca/calendar/family-picnic/
END:VEVENT
BEGIN:VEVENT
DTSTART;TZID=America/Moncton:20250616T110000
DTEND;TZID=America/Moncton:20250616T113000
DTSTAMP:20260419T165337
CREATED:20250612T145451Z
LAST-MODIFIED:20250612T145452Z
UID:10000299-1750071600-1750073400@gnmes.nbed.ca
SUMMARY:Grade 12 Alumni Grad walk
DESCRIPTION:
URL:https://gnmes.nbed.ca/calendar/grade-12-alumni-grad-walk/
END:VEVENT
BEGIN:VEVENT
DTSTART;TZID=America/Moncton:20250526T183000
DTEND;TZID=America/Moncton:20250526T193000
DTSTAMP:20260419T165337
CREATED:20241101T125711Z
LAST-MODIFIED:20241101T125712Z
UID:10000286-1748284200-1748287800@gnmes.nbed.ca
SUMMARY:PSSC Meeting
DESCRIPTION:
URL:https://gnmes.nbed.ca/calendar/pssc-meeting-8/2025-05-26/
END:VEVENT
BEGIN:VEVENT
DTSTART;TZID=America/Moncton:20250428T183000
DTEND;TZID=America/Moncton:20250428T193000
DTSTAMP:20260419T165337
CREATED:20241101T125711Z
LAST-MODIFIED:20241101T125712Z
UID:10000285-1745865000-1745868600@gnmes.nbed.ca
SUMMARY:PSSC Meeting
DESCRIPTION:
URL:https://gnmes.nbed.ca/calendar/pssc-meeting-8/2025-04-28/
END:VEVENT
BEGIN:VEVENT
DTSTART;TZID=America/Moncton:20250331T183000
DTEND;TZID=America/Moncton:20250331T193000
DTSTAMP:20260419T165337
CREATED:20241101T125711Z
LAST-MODIFIED:20241101T125712Z
UID:10000284-1743445800-1743449400@gnmes.nbed.ca
SUMMARY:PSSC Meeting
DESCRIPTION:
URL:https://gnmes.nbed.ca/calendar/pssc-meeting-8/2025-03-31/
END:VEVENT
BEGIN:VEVENT
DTSTART;TZID=America/Moncton:20250313T183000
DTEND;TZID=America/Moncton:20250313T193000
DTSTAMP:20260419T165337
CREATED:20241101T130214Z
LAST-MODIFIED:20241101T130215Z
UID:10000291-1741890600-1741894200@gnmes.nbed.ca
SUMMARY:Home & School Meeting
DESCRIPTION:
URL:https://gnmes.nbed.ca/calendar/home-school-meeting-3/2025-03-13/
END:VEVENT
BEGIN:VEVENT
DTSTART;TZID=America/Moncton:20250224T183000
DTEND;TZID=America/Moncton:20250224T193000
DTSTAMP:20260419T165337
CREATED:20241101T125711Z
LAST-MODIFIED:20241101T125712Z
UID:10000283-1740421800-1740425400@gnmes.nbed.ca
SUMMARY:PSSC Meeting
DESCRIPTION:
URL:https://gnmes.nbed.ca/calendar/pssc-meeting-8/2025-02-24/
END:VEVENT
BEGIN:VEVENT
DTSTART;TZID=America/Moncton:20250213T183000
DTEND;TZID=America/Moncton:20250213T193000
DTSTAMP:20260419T165337
CREATED:20241101T130214Z
LAST-MODIFIED:20241101T130215Z
UID:10000290-1739471400-1739475000@gnmes.nbed.ca
SUMMARY:Home & School Meeting
DESCRIPTION:
URL:https://gnmes.nbed.ca/calendar/home-school-meeting-3/2025-02-13/
END:VEVENT
BEGIN:VEVENT
DTSTART;TZID=America/Moncton:20250120T183000
DTEND;TZID=America/Moncton:20250120T193000
DTSTAMP:20260419T165337
CREATED:20241101T125711Z
LAST-MODIFIED:20241101T125712Z
UID:10000282-1737397800-1737401400@gnmes.nbed.ca
SUMMARY:PSSC Meeting
DESCRIPTION:
URL:https://gnmes.nbed.ca/calendar/pssc-meeting-8/2025-01-20/
END:VEVENT
BEGIN:VEVENT
DTSTART;TZID=America/Moncton:20250109T183000
DTEND;TZID=America/Moncton:20250109T193000
DTSTAMP:20260419T165337
CREATED:20241101T130214Z
LAST-MODIFIED:20241101T130215Z
UID:10000289-1736447400-1736451000@gnmes.nbed.ca
SUMMARY:Home & School Meeting
DESCRIPTION:
URL:https://gnmes.nbed.ca/calendar/home-school-meeting-3/2025-01-09/
END:VEVENT
BEGIN:VEVENT
DTSTART;TZID=America/Moncton:20241212T183000
DTEND;TZID=America/Moncton:20241212T193000
DTSTAMP:20260419T165337
CREATED:20241101T130214Z
LAST-MODIFIED:20241101T130215Z
UID:10000288-1734028200-1734031800@gnmes.nbed.ca
SUMMARY:Home & School Meeting
DESCRIPTION:
URL:https://gnmes.nbed.ca/calendar/home-school-meeting-3/2024-12-12/
END:VEVENT
BEGIN:VEVENT
DTSTART;TZID=America/Moncton:20241211T110000
DTEND;TZID=America/Moncton:20241211T120000
DTSTAMP:20260419T165337
CREATED:20241101T124659Z
LAST-MODIFIED:20241101T124702Z
UID:10000279-1733914800-1733918400@gnmes.nbed.ca
SUMMARY:Holiday Concert
DESCRIPTION:
URL:https://gnmes.nbed.ca/calendar/holiday-concert-2/
END:VEVENT
BEGIN:VEVENT
DTSTART;TZID=America/Moncton:20241211T090000
DTEND;TZID=America/Moncton:20241211T100000
DTSTAMP:20260419T165337
CREATED:20241101T124320Z
LAST-MODIFIED:20241101T124321Z
UID:10000278-1733907600-1733911200@gnmes.nbed.ca
SUMMARY:Holiday Concert
DESCRIPTION:
URL:https://gnmes.nbed.ca/calendar/holiday-concert/
END:VEVENT
BEGIN:VEVENT
DTSTART;TZID=America/Moncton:20241206T083000
DTEND;TZID=America/Moncton:20241206T100000
DTSTAMP:20260419T165337
CREATED:20241114T173055Z
LAST-MODIFIED:20241114T173057Z
UID:10000297-1733473800-1733479200@gnmes.nbed.ca
SUMMARY:GNMES Winter Book Fair
DESCRIPTION:The proceeds raised from our winter book fair will be used to purchase new materials for our classrooms.
URL:https://gnmes.nbed.ca/calendar/gnmes-winter-book-fair-5/
END:VEVENT
BEGIN:VEVENT
DTSTART;TZID=America/Moncton:20241205T160000
DTEND;TZID=America/Moncton:20241205T180000
DTSTAMP:20260419T165337
CREATED:20241114T172922Z
LAST-MODIFIED:20241114T172923Z
UID:10000296-1733414400-1733421600@gnmes.nbed.ca
SUMMARY:GNMES Winter Book Fair
DESCRIPTION:The proceeds raised from our winter book fair will be used to purchase new materials for our classrooms.
URL:https://gnmes.nbed.ca/calendar/gnmes-winter-book-fair-4/
END:VEVENT
BEGIN:VEVENT
DTSTART;TZID=America/Moncton:20241205T083000
DTEND;TZID=America/Moncton:20241205T143000
DTSTAMP:20260419T165337
CREATED:20241114T172828Z
LAST-MODIFIED:20241114T172829Z
UID:10000295-1733387400-1733409000@gnmes.nbed.ca
SUMMARY:GNMES Winter Book Fair
DESCRIPTION:The proceeds raised from our winter book fair will be used to purchase new materials for our classrooms.
URL:https://gnmes.nbed.ca/calendar/gnmes-winter-book-fair-3/
END:VEVENT
BEGIN:VEVENT
DTSTART;TZID=America/Moncton:20241204T083000
DTEND;TZID=America/Moncton:20241204T130000
DTSTAMP:20260419T165337
CREATED:20241114T172653Z
LAST-MODIFIED:20241114T172748Z
UID:10000294-1733301000-1733317200@gnmes.nbed.ca
SUMMARY:GNMES Winter Book Fair
DESCRIPTION:The proceeds raised from our winter book fair will be used to purchase new materials for our classrooms.
URL:https://gnmes.nbed.ca/calendar/1239/
END:VEVENT
BEGIN:VEVENT
DTSTART;TZID=America/Moncton:20241203T083000
DTEND;TZID=America/Moncton:20241203T143000
DTSTAMP:20260419T165337
CREATED:20241114T172554Z
LAST-MODIFIED:20241114T172556Z
UID:10000293-1733214600-1733236200@gnmes.nbed.ca
SUMMARY:GNMES Winter Book Fair
DESCRIPTION:The proceeds raised from our winter book fair will be used to purchase new materials for our classrooms.
URL:https://gnmes.nbed.ca/calendar/gnmes-winter-book-fair-2/
END:VEVENT
BEGIN:VEVENT
DTSTART;TZID=America/Moncton:20241202T083000
DTEND;TZID=America/Moncton:20241202T143000
DTSTAMP:20260419T165337
CREATED:20241114T172200Z
LAST-MODIFIED:20241114T172202Z
UID:10000292-1733128200-1733149800@gnmes.nbed.ca
SUMMARY:GNMES Winter Book Fair
DESCRIPTION:The proceeds raised from our winter book fair will be used to purchase new materials for our classroom.
URL:https://gnmes.nbed.ca/calendar/gnmes-winter-book-fair/
END:VEVENT
BEGIN:VEVENT
DTSTART;TZID=America/Moncton:20241125T183000
DTEND;TZID=America/Moncton:20241125T193000
DTSTAMP:20260419T165337
CREATED:20241101T125711Z
LAST-MODIFIED:20241101T125712Z
UID:10000281-1732559400-1732563000@gnmes.nbed.ca
SUMMARY:PSSC Meeting
DESCRIPTION:
URL:https://gnmes.nbed.ca/calendar/pssc-meeting-8/2024-11-25/
END:VEVENT
BEGIN:VEVENT
DTSTART;TZID=America/Moncton:20241114T183000
DTEND;TZID=America/Moncton:20241114T193000
DTSTAMP:20260419T165337
CREATED:20241101T130214Z
LAST-MODIFIED:20241101T130215Z
UID:10000287-1731609000-1731612600@gnmes.nbed.ca
SUMMARY:Home & School Meeting
DESCRIPTION:
URL:https://gnmes.nbed.ca/calendar/home-school-meeting-3/2024-11-14/
END:VEVENT
BEGIN:VEVENT
DTSTART;TZID=America/Moncton:20241107T110000
DTEND;TZID=America/Moncton:20241107T120000
DTSTAMP:20260419T165337
CREATED:20241101T124924Z
LAST-MODIFIED:20241101T124926Z
UID:10000280-1730977200-1730980800@gnmes.nbed.ca
SUMMARY:Remembrance Day Assembly
DESCRIPTION:
URL:https://gnmes.nbed.ca/calendar/remembrance-day-assembly-2/
END:VEVENT
BEGIN:VEVENT
DTSTART;TZID=America/Moncton:20241025T180000
DTEND;TZID=America/Moncton:20241025T200000
DTSTAMP:20260419T165337
CREATED:20241007T123431Z
LAST-MODIFIED:20241007T123432Z
UID:10000277-1729879200-1729886400@gnmes.nbed.ca
SUMMARY:GNMES Home and School Halloween Fun Night
DESCRIPTION:
URL:https://gnmes.nbed.ca/calendar/gnmes-home-and-school-halloween-fun-night/
END:VEVENT
BEGIN:VEVENT
DTSTART;TZID=America/Moncton:20241015T080000
DTEND;TZID=America/Moncton:20241018T160000
DTSTAMP:20260419T165337
CREATED:20240614T110304Z
LAST-MODIFIED:20240614T110305Z
UID:10000276-1728979200-1729267200@gnmes.nbed.ca
SUMMARY:Kindergarten Registration
DESCRIPTION:
URL:https://gnmes.nbed.ca/calendar/kindergarten-registration/
END:VEVENT
BEGIN:VEVENT
DTSTART;TZID=America/Moncton:20240903T083000
DTEND;TZID=America/Moncton:20240903T150000
DTSTAMP:20260419T165337
CREATED:20240614T110149Z
LAST-MODIFIED:20240614T110150Z
UID:10000275-1725352200-1725375600@gnmes.nbed.ca
SUMMARY:First Day of Classes
DESCRIPTION:
URL:https://gnmes.nbed.ca/calendar/first-day-of-classes-4/
CATEGORIES:Current Students
END:VEVENT
BEGIN:VEVENT
DTSTART;TZID=America/Moncton:20240626T081500
DTEND;TZID=America/Moncton:20240626T163000
DTSTAMP:20260419T165337
CREATED:20230616T123355Z
LAST-MODIFIED:20230622T124801Z
UID:10000177-1719389700-1719419400@gnmes.nbed.ca
SUMMARY:Full Administration Day
DESCRIPTION:Teachers and administrators ONLY!
URL:https://gnmes.nbed.ca/calendar/full-administration-day-5/
CATEGORIES:Current Students
END:VEVENT
BEGIN:VEVENT
DTSTART;TZID=America/Moncton:20240625T081500
DTEND;TZID=America/Moncton:20240625T163000
DTSTAMP:20260419T165337
CREATED:20230616T123209Z
LAST-MODIFIED:20240606T193002Z
UID:10000176-1719303300-1719333000@gnmes.nbed.ca
SUMMARY:Last Day of Classes (Full Day)
DESCRIPTION:
URL:https://gnmes.nbed.ca/calendar/last-day-of-classes-full-day/
CATEGORIES:Academics,Current Students
END:VEVENT
END:VCALENDAR