BEGIN:VCALENDAR
VERSION:2.0
PRODID:-//Gibson-Neill Memorial Elementary School - ECPv6.15.20//NONSGML v1.0//EN
CALSCALE:GREGORIAN
METHOD:PUBLISH
X-ORIGINAL-URL:https://gnmes.nbed.ca
X-WR-CALDESC:Events for Gibson-Neill Memorial Elementary School
REFRESH-INTERVAL;VALUE=DURATION:PT1H
X-Robots-Tag:noindex
X-PUBLISHED-TTL:PT1H
BEGIN:VTIMEZONE
TZID:America/Moncton
BEGIN:DAYLIGHT
TZOFFSETFROM:-0400
TZOFFSETTO:-0300
TZNAME:ADT
DTSTART:20210314T060000
END:DAYLIGHT
BEGIN:STANDARD
TZOFFSETFROM:-0300
TZOFFSETTO:-0400
TZNAME:AST
DTSTART:20211107T050000
END:STANDARD
BEGIN:DAYLIGHT
TZOFFSETFROM:-0400
TZOFFSETTO:-0300
TZNAME:ADT
DTSTART:20220313T060000
END:DAYLIGHT
BEGIN:STANDARD
TZOFFSETFROM:-0300
TZOFFSETTO:-0400
TZNAME:AST
DTSTART:20221106T050000
END:STANDARD
BEGIN:DAYLIGHT
TZOFFSETFROM:-0400
TZOFFSETTO:-0300
TZNAME:ADT
DTSTART:20230312T060000
END:DAYLIGHT
BEGIN:STANDARD
TZOFFSETFROM:-0300
TZOFFSETTO:-0400
TZNAME:AST
DTSTART:20231105T050000
END:STANDARD
END:VTIMEZONE
BEGIN:VEVENT
DTSTART;TZID=America/Moncton:20221223T000000
DTEND;TZID=America/Moncton:20221223T235959
DTSTAMP:20260420T211901
CREATED:20221108T175339Z
LAST-MODIFIED:20221108T175558Z
UID:10000097-1671753600-1671839999@gnmes.nbed.ca
SUMMARY:Last Day of Class Before Holiday Break
DESCRIPTION:
URL:https://gnmes.nbed.ca/calendar/first-day-back-to-class/
END:VEVENT
BEGIN:VEVENT
DTSTART;TZID=America/Moncton:20221216T090000
DTEND;TZID=America/Moncton:20221216T100000
DTSTAMP:20260420T211901
CREATED:20221118T152558Z
LAST-MODIFIED:20221118T152601Z
UID:10000103-1671181200-1671184800@gnmes.nbed.ca
SUMMARY:Storm Date - Holiday Concert
DESCRIPTION:
URL:https://gnmes.nbed.ca/calendar/storm-date-holiday-concert/
CATEGORIES:Extracurricular
END:VEVENT
BEGIN:VEVENT
DTSTART;TZID=America/Moncton:20221215T090000
DTEND;TZID=America/Moncton:20221215T100000
DTSTAMP:20260420T211901
CREATED:20221118T131151Z
LAST-MODIFIED:20221118T131155Z
UID:10000099-1671094800-1671098400@gnmes.nbed.ca
SUMMARY:Holiday Musical - Show 2
DESCRIPTION:Holiday Musical Grades 2 & 3 – Show 2
URL:https://gnmes.nbed.ca/calendar/holiday-musical-show-2/
CATEGORIES:Extracurricular
END:VEVENT
BEGIN:VEVENT
DTSTART;TZID=America/Moncton:20221214T090000
DTEND;TZID=America/Moncton:20221214T100000
DTSTAMP:20260420T211901
CREATED:20221118T130938Z
LAST-MODIFIED:20221118T130942Z
UID:10000098-1671008400-1671012000@gnmes.nbed.ca
SUMMARY:Holiday Musical - Show 1
DESCRIPTION:Grades 2 & 3 Holiday Musical
URL:https://gnmes.nbed.ca/calendar/holiday-musical-show-1/
CATEGORIES:Extracurricular
END:VEVENT
BEGIN:VEVENT
DTSTART;TZID=America/Moncton:20221209T080000
DTEND;TZID=America/Moncton:20221209T120000
DTSTAMP:20260420T211901
CREATED:20221118T131425Z
LAST-MODIFIED:20221118T131430Z
UID:10000100-1670572800-1670587200@gnmes.nbed.ca
SUMMARY:Parent / Teacher Meetings
DESCRIPTION:No school for students
URL:https://gnmes.nbed.ca/calendar/parent-teacher-meetings/
CATEGORIES:Current Students
END:VEVENT
BEGIN:VEVENT
DTSTART;TZID=America/Moncton:20221201T080000
DTEND;TZID=America/Moncton:20221201T170000
DTSTAMP:20260420T211901
CREATED:20221118T145435Z
LAST-MODIFIED:20221118T145439Z
UID:10000101-1669881600-1669914000@gnmes.nbed.ca
SUMMARY:Report Cards Go Home
DESCRIPTION:
URL:https://gnmes.nbed.ca/calendar/report-cards-go-home/
CATEGORIES:Academics
END:VEVENT
END:VCALENDAR