BEGIN:VCALENDAR
VERSION:2.0
PRODID:-//Gibson-Neill Memorial Elementary School - ECPv6.15.20//NONSGML v1.0//EN
CALSCALE:GREGORIAN
METHOD:PUBLISH
X-ORIGINAL-URL:https://gnmes.nbed.ca
X-WR-CALDESC:Events for Gibson-Neill Memorial Elementary School
REFRESH-INTERVAL;VALUE=DURATION:PT1H
X-Robots-Tag:noindex
X-PUBLISHED-TTL:PT1H
BEGIN:VTIMEZONE
TZID:America/Moncton
BEGIN:DAYLIGHT
TZOFFSETFROM:-0400
TZOFFSETTO:-0300
TZNAME:ADT
DTSTART:20250309T060000
END:DAYLIGHT
BEGIN:STANDARD
TZOFFSETFROM:-0300
TZOFFSETTO:-0400
TZNAME:AST
DTSTART:20251102T050000
END:STANDARD
BEGIN:DAYLIGHT
TZOFFSETFROM:-0400
TZOFFSETTO:-0300
TZNAME:ADT
DTSTART:20260308T060000
END:DAYLIGHT
BEGIN:STANDARD
TZOFFSETFROM:-0300
TZOFFSETTO:-0400
TZNAME:AST
DTSTART:20261101T050000
END:STANDARD
BEGIN:DAYLIGHT
TZOFFSETFROM:-0400
TZOFFSETTO:-0300
TZNAME:ADT
DTSTART:20270314T060000
END:DAYLIGHT
BEGIN:STANDARD
TZOFFSETFROM:-0300
TZOFFSETTO:-0400
TZNAME:AST
DTSTART:20271107T050000
END:STANDARD
END:VTIMEZONE
BEGIN:VEVENT
DTSTART;TZID=America/Moncton:20260423T080000
DTEND;TZID=America/Moncton:20260423T170000
DTSTAMP:20260419T140248
CREATED:20260206T184952Z
LAST-MODIFIED:20260206T184953Z
UID:10000362-1776931200-1776963600@gnmes.nbed.ca
SUMMARY:Powerplay Market
DESCRIPTION:
URL:https://gnmes.nbed.ca/calendar/powerplay-market/
END:VEVENT
BEGIN:VEVENT
DTSTART;TZID=America/Moncton:20260424T080000
DTEND;TZID=America/Moncton:20260424T170000
DTSTAMP:20260419T140248
CREATED:20260317T140609Z
LAST-MODIFIED:20260317T140611Z
UID:10000376-1777017600-1777050000@gnmes.nbed.ca
SUMMARY:Gr. 4 English Reading Assessment
DESCRIPTION:
URL:https://gnmes.nbed.ca/calendar/gr-4-english-reading-assessment-2/
END:VEVENT
BEGIN:VEVENT
DTSTART;TZID=America/Moncton:20260427T080000
DTEND;TZID=America/Moncton:20260427T170000
DTSTAMP:20260419T140248
CREATED:20260219T185910Z
LAST-MODIFIED:20260219T185911Z
UID:10000364-1777276800-1777309200@gnmes.nbed.ca
SUMMARY:Gr. 4 English Reading Assessment
DESCRIPTION:
URL:https://gnmes.nbed.ca/calendar/gr-4-english-reading-assessment/
END:VEVENT
BEGIN:VEVENT
DTSTART;TZID=America/Moncton:20260501T080000
DTEND;TZID=America/Moncton:20260501T170000
DTSTAMP:20260419T140248
CREATED:20250905T122614Z
LAST-MODIFIED:20250905T122617Z
UID:10000319-1777622400-1777654800@gnmes.nbed.ca
SUMMARY:No School - Council Day
DESCRIPTION:
URL:https://gnmes.nbed.ca/calendar/no-school-council-day/
END:VEVENT
BEGIN:VEVENT
DTSTART;TZID=America/Moncton:20260504T080000
DTEND;TZID=America/Moncton:20260508T170000
DTSTAMP:20260419T140248
CREATED:20260416T152008Z
LAST-MODIFIED:20260416T152009Z
UID:10000392-1777881600-1778259600@gnmes.nbed.ca
SUMMARY:Teacher Appreciation Week
DESCRIPTION:
URL:https://gnmes.nbed.ca/calendar/teacher-appreciation-week/
END:VEVENT
BEGIN:VEVENT
DTSTART;TZID=America/Moncton:20260505T080000
DTEND;TZID=America/Moncton:20260507T170000
DTSTAMP:20260419T140248
CREATED:20260219T190013Z
LAST-MODIFIED:20260219T190015Z
UID:10000365-1777968000-1778173200@gnmes.nbed.ca
SUMMARY:Grade 4 Science Provincial Assessment
DESCRIPTION:
URL:https://gnmes.nbed.ca/calendar/grade-4-science-provincial-assessment/
END:VEVENT
BEGIN:VEVENT
DTSTART;TZID=America/Moncton:20260507T080000
DTEND;TZID=America/Moncton:20260507T170000
DTSTAMP:20260419T140248
CREATED:20260219T190051Z
LAST-MODIFIED:20260219T190053Z
UID:10000366-1778140800-1778173200@gnmes.nbed.ca
SUMMARY:National Child and Youth Mental Health Day
DESCRIPTION:
URL:https://gnmes.nbed.ca/calendar/national-child-and-youth-mental-health-day/
END:VEVENT
BEGIN:VEVENT
DTSTART;TZID=America/Moncton:20260511T080000
DTEND;TZID=America/Moncton:20260511T170000
DTSTAMP:20260419T140248
CREATED:20250905T122656Z
LAST-MODIFIED:20250905T122700Z
UID:10000320-1778486400-1778518800@gnmes.nbed.ca
SUMMARY:No School - NBTA Branch Day
DESCRIPTION:
URL:https://gnmes.nbed.ca/calendar/no-school-nbta-branch-day/
END:VEVENT
BEGIN:VEVENT
DTSTART;TZID=America/Moncton:20260512T080000
DTEND;TZID=America/Moncton:20260514T170000
DTSTAMP:20260419T140248
CREATED:20260317T140951Z
LAST-MODIFIED:20260317T140953Z
UID:10000377-1778572800-1778778000@gnmes.nbed.ca
SUMMARY:Gr. 5 FI Provincial Reading Assessment
DESCRIPTION:
URL:https://gnmes.nbed.ca/calendar/gr-5-fi-provincial-reading-assessment/
END:VEVENT
BEGIN:VEVENT
DTSTART;TZID=America/Moncton:20260518T080000
DTEND;TZID=America/Moncton:20260518T170000
DTSTAMP:20260419T140248
CREATED:20250905T122729Z
LAST-MODIFIED:20250905T122732Z
UID:10000321-1779091200-1779123600@gnmes.nbed.ca
SUMMARY:No School Victoria Day
DESCRIPTION:
URL:https://gnmes.nbed.ca/calendar/no-school-victoria-day/
END:VEVENT
BEGIN:VEVENT
DTSTART;TZID=America/Moncton:20260519T080000
DTEND;TZID=America/Moncton:20260521T170000
DTSTAMP:20260419T140248
CREATED:20260219T190207Z
LAST-MODIFIED:20260219T190209Z
UID:10000367-1779177600-1779382800@gnmes.nbed.ca
SUMMARY:Grade 5 Provincial Math Assessment
DESCRIPTION:
URL:https://gnmes.nbed.ca/calendar/grade-5-provincial-math-assessment/
END:VEVENT
BEGIN:VEVENT
DTSTART;TZID=America/Moncton:20260520T080000
DTEND;TZID=America/Moncton:20260520T170000
DTSTAMP:20260419T140248
CREATED:20260323T173751Z
LAST-MODIFIED:20260323T173752Z
UID:10000382-1779264000-1779296400@gnmes.nbed.ca
SUMMARY:World Bee Day
DESCRIPTION:
URL:https://gnmes.nbed.ca/calendar/world-bee-day/
END:VEVENT
BEGIN:VEVENT
DTSTART;TZID=America/Moncton:20260521T080000
DTEND;TZID=America/Moncton:20260521T170000
DTSTAMP:20260419T140248
CREATED:20260323T174203Z
LAST-MODIFIED:20260323T174205Z
UID:10000384-1779350400-1779382800@gnmes.nbed.ca
SUMMARY:Grades 3-5 GNMES Track and Field Day
DESCRIPTION:
URL:https://gnmes.nbed.ca/calendar/grades-3-5-gnmes-track-and-field-day/
END:VEVENT
BEGIN:VEVENT
DTSTART;TZID=America/Moncton:20260521T183000
DTEND;TZID=America/Moncton:20260521T183000
DTSTAMP:20260419T140248
CREATED:20260219T190339Z
LAST-MODIFIED:20260219T190341Z
UID:10000368-1779388200-1779388200@gnmes.nbed.ca
SUMMARY:Home & School Meeting
DESCRIPTION:
URL:https://gnmes.nbed.ca/calendar/home-school-meeting-5/
END:VEVENT
BEGIN:VEVENT
DTSTART;TZID=America/Moncton:20260522T080000
DTEND;TZID=America/Moncton:20260522T170000
DTSTAMP:20260419T140248
CREATED:20260323T174258Z
LAST-MODIFIED:20260323T174300Z
UID:10000385-1779436800-1779469200@gnmes.nbed.ca
SUMMARY:Grades 3-5 GNMES Track and Field Day rain date
DESCRIPTION:
URL:https://gnmes.nbed.ca/calendar/grades-3-5-gnmes-track-and-field-day-rain-date/
END:VEVENT
BEGIN:VEVENT
DTSTART;TZID=America/Moncton:20260522T083000
DTEND;TZID=America/Moncton:20260522T100000
DTSTAMP:20260419T140248
CREATED:20260416T153030Z
LAST-MODIFIED:20260416T153032Z
UID:10000393-1779438600-1779444000@gnmes.nbed.ca
SUMMARY:Gr. 5 Tour of Devon Middle School
DESCRIPTION:
URL:https://gnmes.nbed.ca/calendar/gr-5-tour-of-devon-middle-school/
END:VEVENT
BEGIN:VEVENT
DTSTART;TZID=America/Moncton:20260525T183000
DTEND;TZID=America/Moncton:20260525T183000
DTSTAMP:20260419T140248
CREATED:20260219T190432Z
LAST-MODIFIED:20260219T190435Z
UID:10000369-1779733800-1779733800@gnmes.nbed.ca
SUMMARY:PSSC Meeting
DESCRIPTION:
URL:https://gnmes.nbed.ca/calendar/pssc-meeting-12/
END:VEVENT
BEGIN:VEVENT
DTSTART;TZID=America/Moncton:20260527T110000
DTEND;TZID=America/Moncton:20260527T110000
DTSTAMP:20260419T140248
CREATED:20260219T190533Z
LAST-MODIFIED:20260219T190536Z
UID:10000370-1779879600-1779879600@gnmes.nbed.ca
SUMMARY:Drama Production for School
DESCRIPTION:
URL:https://gnmes.nbed.ca/calendar/drama-production-for-school/
END:VEVENT
BEGIN:VEVENT
DTSTART;TZID=America/Moncton:20260527T160000
DTEND;TZID=America/Moncton:20260527T160000
DTSTAMP:20260419T140248
CREATED:20260219T190623Z
LAST-MODIFIED:20260219T190625Z
UID:10000371-1779897600-1779897600@gnmes.nbed.ca
SUMMARY:Drama Production for Parents
DESCRIPTION:
URL:https://gnmes.nbed.ca/calendar/drama-production-for-parents/
END:VEVENT
BEGIN:VEVENT
DTSTART;TZID=America/Moncton:20260528T080000
DTEND;TZID=America/Moncton:20260528T170000
DTSTAMP:20260419T140248
CREATED:20260323T174335Z
LAST-MODIFIED:20260323T174337Z
UID:10000386-1779955200-1779987600@gnmes.nbed.ca
SUMMARY:District Track and Field Day
DESCRIPTION:
URL:https://gnmes.nbed.ca/calendar/district-track-and-field-day/
END:VEVENT
BEGIN:VEVENT
DTSTART;TZID=America/Moncton:20260529T080000
DTEND;TZID=America/Moncton:20260529T170000
DTSTAMP:20260419T140248
CREATED:20260219T190653Z
LAST-MODIFIED:20260219T190655Z
UID:10000372-1780041600-1780074000@gnmes.nbed.ca
SUMMARY:Welcome to K Day
DESCRIPTION:
URL:https://gnmes.nbed.ca/calendar/welcome-to-k-day/
END:VEVENT
BEGIN:VEVENT
DTSTART;TZID=America/Moncton:20260601T080000
DTEND;TZID=America/Moncton:20260601T170000
DTSTAMP:20260419T140248
CREATED:20260317T141426Z
LAST-MODIFIED:20260317T141428Z
UID:10000378-1780300800-1780333200@gnmes.nbed.ca
SUMMARY:Say Something Nice Day
DESCRIPTION:
URL:https://gnmes.nbed.ca/calendar/say-something-nice-day/
END:VEVENT
BEGIN:VEVENT
DTSTART;TZID=America/Moncton:20260601T080000
DTEND;TZID=America/Moncton:20260601T170000
DTSTAMP:20260419T140248
CREATED:20260323T174414Z
LAST-MODIFIED:20260323T174416Z
UID:10000387-1780300800-1780333200@gnmes.nbed.ca
SUMMARY:District Track and Field Day rain date
DESCRIPTION:
URL:https://gnmes.nbed.ca/calendar/district-track-and-field-day-rain-date/
END:VEVENT
BEGIN:VEVENT
DTSTART;TZID=America/Moncton:20260606T100000
DTEND;TZID=America/Moncton:20260606T120000
DTSTAMP:20260419T140248
CREATED:20260219T190730Z
LAST-MODIFIED:20260317T141336Z
UID:10000373-1780740000-1780747200@gnmes.nbed.ca
SUMMARY:Bike Rodeo
DESCRIPTION:
URL:https://gnmes.nbed.ca/calendar/bike-rodeo/
END:VEVENT
BEGIN:VEVENT
DTSTART;TZID=America/Moncton:20260608T080000
DTEND;TZID=America/Moncton:20260608T170000
DTSTAMP:20260419T140248
CREATED:20260323T173950Z
LAST-MODIFIED:20260323T173952Z
UID:10000383-1780905600-1780938000@gnmes.nbed.ca
SUMMARY:Grade 5 Greenhill Lake Trip
DESCRIPTION:
URL:https://gnmes.nbed.ca/calendar/grade-5-greenhill-lake-trip/
END:VEVENT
BEGIN:VEVENT
DTSTART;TZID=America/Moncton:20260611T080000
DTEND;TZID=America/Moncton:20260611T170000
DTSTAMP:20260419T140248
CREATED:20260323T165854Z
LAST-MODIFIED:20260323T165856Z
UID:10000381-1781164800-1781197200@gnmes.nbed.ca
SUMMARY:GNMES Fun Day Grades K-2
DESCRIPTION:
URL:https://gnmes.nbed.ca/calendar/gnmes-fun-day-grades-k-2/
END:VEVENT
BEGIN:VEVENT
DTSTART;TZID=America/Moncton:20260612T080000
DTEND;TZID=America/Moncton:20260612T170000
DTSTAMP:20260419T140248
CREATED:20260323T165812Z
LAST-MODIFIED:20260323T165814Z
UID:10000380-1781251200-1781283600@gnmes.nbed.ca
SUMMARY:GNMES Fun Day Grades 3-5
DESCRIPTION:
URL:https://gnmes.nbed.ca/calendar/gnmes-fun-day-grades-3-5/
END:VEVENT
BEGIN:VEVENT
DTSTART;TZID=America/Moncton:20260613T100000
DTEND;TZID=America/Moncton:20260613T120000
DTSTAMP:20260419T140248
CREATED:20260317T141542Z
LAST-MODIFIED:20260317T141543Z
UID:10000379-1781344800-1781352000@gnmes.nbed.ca
SUMMARY:Bike Rodeo Rain Date
DESCRIPTION:
URL:https://gnmes.nbed.ca/calendar/bike-rodeo-rain-date/
END:VEVENT
BEGIN:VEVENT
DTSTART;TZID=America/Moncton:20260617T110000
DTEND;TZID=America/Moncton:20260617T110000
DTSTAMP:20260419T140248
CREATED:20260407T131557Z
LAST-MODIFIED:20260407T131559Z
UID:10000391-1781694000-1781694000@gnmes.nbed.ca
SUMMARY:Grade 5 Celebration
DESCRIPTION:
URL:https://gnmes.nbed.ca/calendar/grade-5-celebration-4/
END:VEVENT
BEGIN:VEVENT
DTSTART;TZID=America/Moncton:20260618T080000
DTEND;TZID=America/Moncton:20260618T170000
DTSTAMP:20260419T140248
CREATED:20260407T131302Z
LAST-MODIFIED:20260407T131304Z
UID:10000389-1781769600-1781802000@gnmes.nbed.ca
SUMMARY:International Picnic Day
DESCRIPTION:
URL:https://gnmes.nbed.ca/calendar/international-picnic-day/
END:VEVENT
END:VCALENDAR