BEGIN:VCALENDAR
VERSION:2.0
PRODID:-//Gibson-Neill Memorial Elementary School - ECPv6.15.20//NONSGML v1.0//EN
CALSCALE:GREGORIAN
METHOD:PUBLISH
X-WR-CALNAME:Gibson-Neill Memorial Elementary School
X-ORIGINAL-URL:https://gnmes.nbed.ca
X-WR-CALDESC:Events for Gibson-Neill Memorial Elementary School
REFRESH-INTERVAL;VALUE=DURATION:PT1H
X-Robots-Tag:noindex
X-PUBLISHED-TTL:PT1H
BEGIN:VTIMEZONE
TZID:America/Moncton
BEGIN:DAYLIGHT
TZOFFSETFROM:-0400
TZOFFSETTO:-0300
TZNAME:ADT
DTSTART:20220313T060000
END:DAYLIGHT
BEGIN:STANDARD
TZOFFSETFROM:-0300
TZOFFSETTO:-0400
TZNAME:AST
DTSTART:20221106T050000
END:STANDARD
BEGIN:DAYLIGHT
TZOFFSETFROM:-0400
TZOFFSETTO:-0300
TZNAME:ADT
DTSTART:20230312T060000
END:DAYLIGHT
BEGIN:STANDARD
TZOFFSETFROM:-0300
TZOFFSETTO:-0400
TZNAME:AST
DTSTART:20231105T050000
END:STANDARD
BEGIN:DAYLIGHT
TZOFFSETFROM:-0400
TZOFFSETTO:-0300
TZNAME:ADT
DTSTART:20240310T060000
END:DAYLIGHT
BEGIN:STANDARD
TZOFFSETFROM:-0300
TZOFFSETTO:-0400
TZNAME:AST
DTSTART:20241103T050000
END:STANDARD
END:VTIMEZONE
BEGIN:VEVENT
DTSTART;TZID=America/Moncton:20230613T083000
DTEND;TZID=America/Moncton:20230613T150000
DTSTAMP:20260420T232625
CREATED:20230502T141925Z
LAST-MODIFIED:20230502T141926Z
UID:10000152-1686645000-1686668400@gnmes.nbed.ca
SUMMARY:Green Hill Lake - Grade 5
DESCRIPTION:
URL:https://gnmes.nbed.ca/calendar/green-hill-lake-grade-5/
CATEGORIES:Current Students,Extracurricular
END:VEVENT
BEGIN:VEVENT
DTSTART;TZID=America/Moncton:20230609T083000
DTEND;TZID=America/Moncton:20230609T150000
DTSTAMP:20260420T232625
CREATED:20230502T141832Z
LAST-MODIFIED:20230502T141832Z
UID:10000151-1686299400-1686322800@gnmes.nbed.ca
SUMMARY:3-5 Fun Day
DESCRIPTION:
URL:https://gnmes.nbed.ca/calendar/3-5-fun-day/
CATEGORIES:Current Students
END:VEVENT
BEGIN:VEVENT
DTSTART;TZID=America/Moncton:20230608T083000
DTEND;TZID=America/Moncton:20230608T150000
DTSTAMP:20260420T232625
CREATED:20230502T141803Z
LAST-MODIFIED:20230502T141804Z
UID:10000150-1686213000-1686236400@gnmes.nbed.ca
SUMMARY:K-2 Fun Day
DESCRIPTION:
URL:https://gnmes.nbed.ca/calendar/k-2-fun-day/
CATEGORIES:Current Students
END:VEVENT
BEGIN:VEVENT
DTSTART;TZID=America/Moncton:20230605T083000
DTEND;TZID=America/Moncton:20230605T150000
DTSTAMP:20260420T232625
CREATED:20230502T141434Z
LAST-MODIFIED:20230502T141435Z
UID:10000148-1685953800-1685977200@gnmes.nbed.ca
SUMMARY:Rain Date for District Track Meet
DESCRIPTION:
URL:https://gnmes.nbed.ca/calendar/rain-date-for-district-track-meet/
CATEGORIES:Athletics,Current Students
END:VEVENT
BEGIN:VEVENT
DTSTART;TZID=America/Moncton:20230601T180000
DTEND;TZID=America/Moncton:20230601T190000
DTSTAMP:20260420T232625
CREATED:20230502T141311Z
LAST-MODIFIED:20230502T141312Z
UID:10000147-1685642400-1685646000@gnmes.nbed.ca
SUMMARY:Home & School Meeting
DESCRIPTION:
URL:https://gnmes.nbed.ca/calendar/home-school-meeting/
CATEGORIES:About our School,HSA
END:VEVENT
BEGIN:VEVENT
DTSTART;TZID=America/Moncton:20230601T083000
DTEND;TZID=America/Moncton:20230601T150000
DTSTAMP:20260420T232625
CREATED:20230502T141118Z
LAST-MODIFIED:20230502T141217Z
UID:10000146-1685608200-1685631600@gnmes.nbed.ca
SUMMARY:Northside Track & Field-Districts
DESCRIPTION:A-Distt Nasis Middle School
URL:https://gnmes.nbed.ca/calendar/northside-track-field-meet/
CATEGORIES:Athletics,Current Students
END:VEVENT
BEGIN:VEVENT
DTSTART;TZID=America/Moncton:20230529T180000
DTEND;TZID=America/Moncton:20230529T190000
DTSTAMP:20260420T232625
CREATED:20230502T130606Z
LAST-MODIFIED:20230502T130606Z
UID:10000145-1685383200-1685386800@gnmes.nbed.ca
SUMMARY:PSSC Meeting
DESCRIPTION:
URL:https://gnmes.nbed.ca/calendar/pssc-meeting-2/
CATEGORIES:About our School,PSSC
END:VEVENT
BEGIN:VEVENT
DTSTART;TZID=America/Moncton:20230526T080000
DTEND;TZID=America/Moncton:20230526T170000
DTSTAMP:20260420T232625
CREATED:20230502T122815Z
LAST-MODIFIED:20230502T122816Z
UID:10000144-1685088000-1685120400@gnmes.nbed.ca
SUMMARY:Track & Field Rain Date
DESCRIPTION:
URL:https://gnmes.nbed.ca/calendar/track-field-rain-date/
CATEGORIES:Athletics,Current Students
END:VEVENT
BEGIN:VEVENT
DTSTART;TZID=America/Moncton:20230525T084500
DTEND;TZID=America/Moncton:20230525T113000
DTSTAMP:20260420T232625
CREATED:20230502T122651Z
LAST-MODIFIED:20230502T122651Z
UID:10000143-1685004300-1685014200@gnmes.nbed.ca
SUMMARY:Goatworks Drumming Assembly
DESCRIPTION:Grades 2-3 – 8:45 – 9:45 \n\n\n\nK-1 10:30 – 11:30
URL:https://gnmes.nbed.ca/calendar/goatworks-drumming-assembly/
CATEGORIES:Current Students,Extracurricular
END:VEVENT
BEGIN:VEVENT
DTSTART;TZID=America/Moncton:20230525T083000
DTEND;TZID=America/Moncton:20230525T150000
DTSTAMP:20260420T232625
CREATED:20230502T120259Z
LAST-MODIFIED:20230502T120300Z
UID:10000139-1685003400-1685026800@gnmes.nbed.ca
SUMMARY:GNMES Track & Field
DESCRIPTION:
URL:https://gnmes.nbed.ca/calendar/gnmes-track-field/
CATEGORIES:Athletics,Current Students
END:VEVENT
BEGIN:VEVENT
DTSTART;TZID=America/Moncton:20230524T140000
DTEND;TZID=America/Moncton:20230524T150000
DTSTAMP:20260420T232625
CREATED:20230201T160640Z
LAST-MODIFIED:20230425T162012Z
UID:10000119-1684936800-1684940400@gnmes.nbed.ca
SUMMARY:Kindergarten Orientation
DESCRIPTION:
URL:https://gnmes.nbed.ca/calendar/kindergarten-orientation/
ATTACH;FMTTYPE=image/jpeg:https://gnmes.nbed.ca/wp-content/uploads/sites/34/2023/02/Kinder-Invite-small-2023.jpg
END:VEVENT
BEGIN:VEVENT
DTSTART;TZID=America/Moncton:20230523T103000
DTEND;TZID=America/Moncton:20230523T114500
DTSTAMP:20260420T232625
CREATED:20230502T120345Z
LAST-MODIFIED:20230502T120346Z
UID:10000140-1684837800-1684842300@gnmes.nbed.ca
SUMMARY:Grade 5 Tour of Devon Middle
DESCRIPTION:
URL:https://gnmes.nbed.ca/calendar/grade-5-tour-of-devon-middle/
CATEGORIES:Current Students
END:VEVENT
BEGIN:VEVENT
DTSTART;TZID=America/Moncton:20230523T084500
DTEND;TZID=America/Moncton:20230523T150000
DTSTAMP:20260420T232625
CREATED:20230502T122314Z
LAST-MODIFIED:20230502T122315Z
UID:10000142-1684831500-1684854000@gnmes.nbed.ca
SUMMARY:"Discover Your Best" Frisbee Rob
DESCRIPTION:Whole school assembly followed by remainder of day frisbee workshops for all classes.
URL:https://gnmes.nbed.ca/calendar/discover-your-best-frisbee-rob/
CATEGORIES:Athletics,Current Students
END:VEVENT
BEGIN:VEVENT
DTSTART;TZID=America/Moncton:20230522T000000
DTEND;TZID=America/Moncton:20230522T235959
DTSTAMP:20260420T232625
CREATED:20220502T161734Z
LAST-MODIFIED:20220921T124756Z
UID:10000095-1684713600-1684799999@gnmes.nbed.ca
SUMMARY:Victoria Day
DESCRIPTION:
URL:https://gnmes.nbed.ca/calendar/victoria-day/
END:VEVENT
BEGIN:VEVENT
DTSTART;TZID=America/Moncton:20230519T090000
DTEND;TZID=America/Moncton:20230519T100000
DTSTAMP:20260420T232625
CREATED:20221205T140303Z
LAST-MODIFIED:20221205T140305Z
UID:10000107-1684486800-1684490400@gnmes.nbed.ca
SUMMARY:Spring Musical - Grades 4 & 5
DESCRIPTION:– All Grade 4 & 5 students will perform in this musical.  Friday\, May 19 @ 9:00 am for those with the last name M-Z.
URL:https://gnmes.nbed.ca/calendar/spring-musical-grades-4-5-2/
CATEGORIES:Current Students,Extracurricular
END:VEVENT
BEGIN:VEVENT
DTSTART;TZID=America/Moncton:20230518T090000
DTEND;TZID=America/Moncton:20230518T100000
DTSTAMP:20260420T232625
CREATED:20221205T140148Z
LAST-MODIFIED:20221205T140150Z
UID:10000106-1684400400-1684404000@gnmes.nbed.ca
SUMMARY:Spring Musical - Grades 4 & 5
DESCRIPTION:All Grade 4 & 5 students will perform in this musical.  Dates: Thursday\, May 18 @ 9:00 am for those with the last name A-L.
URL:https://gnmes.nbed.ca/calendar/spring-musical-grades-4-5/
CATEGORIES:Current Students,Extracurricular
END:VEVENT
BEGIN:VEVENT
DTSTART;TZID=America/Moncton:20230517T090000
DTEND;TZID=America/Moncton:20230517T100000
DTSTAMP:20260420T232625
CREATED:20230502T122107Z
LAST-MODIFIED:20230502T122108Z
UID:10000141-1684314000-1684317600@gnmes.nbed.ca
SUMMARY:Musical - Dress Rehearsal
DESCRIPTION:
URL:https://gnmes.nbed.ca/calendar/musical-dress-rehearsal/
CATEGORIES:Current Students,Extracurricular
END:VEVENT
BEGIN:VEVENT
DTSTART;TZID=America/Moncton:20230515T080000
DTEND;TZID=America/Moncton:20230515T170000
DTSTAMP:20260420T232625
CREATED:20230502T120036Z
LAST-MODIFIED:20230502T120037Z
UID:10000138-1684137600-1684170000@gnmes.nbed.ca
SUMMARY:NBTA Branch Day - NO SCHOOL
DESCRIPTION:No school for students or support staff
URL:https://gnmes.nbed.ca/calendar/nbta-branch-day-no-school/
CATEGORIES:Current Students
END:VEVENT
BEGIN:VEVENT
DTSTART;TZID=America/Moncton:20230508T080000
DTEND;TZID=America/Moncton:20230526T170000
DTSTAMP:20260420T232625
CREATED:20230502T115934Z
LAST-MODIFIED:20230502T115935Z
UID:10000137-1683532800-1685120400@gnmes.nbed.ca
SUMMARY:Grade 4 & 5 Provincial Assessments
DESCRIPTION:
URL:https://gnmes.nbed.ca/calendar/grade-4-5-provincial-assessments/
CATEGORIES:Academics,Current Students
END:VEVENT
BEGIN:VEVENT
DTSTART;TZID=America/Moncton:20230505T080000
DTEND;TZID=America/Moncton:20230505T170000
DTSTAMP:20260420T232625
CREATED:20230502T115836Z
LAST-MODIFIED:20230502T115837Z
UID:10000136-1683273600-1683306000@gnmes.nbed.ca
SUMMARY:NBTA Council Day-NO SCHOOL
DESCRIPTION:No school for students or support staff
URL:https://gnmes.nbed.ca/calendar/nbta-council-day-no-school/
CATEGORIES:Current Students
END:VEVENT
BEGIN:VEVENT
DTSTART;TZID=America/Moncton:20230502T090000
DTEND;TZID=America/Moncton:20230502T100000
DTSTAMP:20260420T232625
CREATED:20230502T141705Z
LAST-MODIFIED:20230502T141706Z
UID:10000149-1683018000-1683021600@gnmes.nbed.ca
SUMMARY:Menstrual Health Presentation
DESCRIPTION:Grade 5 girls
URL:https://gnmes.nbed.ca/calendar/menstrual-health-presentation/
CATEGORIES:Current Students,Health
END:VEVENT
BEGIN:VEVENT
DTSTART;TZID=America/Moncton:20230417T083000
DTEND;TZID=America/Moncton:20230417T140000
DTSTAMP:20260420T232625
CREATED:20230316T141404Z
LAST-MODIFIED:20230316T141405Z
UID:10000134-1681720200-1681740000@gnmes.nbed.ca
SUMMARY:Scholastic Book Fair
DESCRIPTION:
URL:https://gnmes.nbed.ca/calendar/scholastic-book-fair-5/
CATEGORIES:Current Students
ATTACH;FMTTYPE=image/jpeg:https://gnmes.nbed.ca/wp-content/uploads/sites/34/2023/03/Book-Fair-2.jpg
END:VEVENT
BEGIN:VEVENT
DTSTART;TZID=America/Moncton:20230414T083000
DTEND;TZID=America/Moncton:20230414T130000
DTSTAMP:20260420T232625
CREATED:20230316T141340Z
LAST-MODIFIED:20230316T141341Z
UID:10000133-1681461000-1681477200@gnmes.nbed.ca
SUMMARY:Scholastic Book Fair
DESCRIPTION:
URL:https://gnmes.nbed.ca/calendar/scholastic-book-fair-4/
CATEGORIES:Current Students
ATTACH;FMTTYPE=image/jpeg:https://gnmes.nbed.ca/wp-content/uploads/sites/34/2023/03/Book-Fair-2.jpg
END:VEVENT
BEGIN:VEVENT
DTSTART;TZID=America/Moncton:20230413T083000
DTEND;TZID=America/Moncton:20230413T183000
DTSTAMP:20260420T232625
CREATED:20230316T141311Z
LAST-MODIFIED:20230316T141311Z
UID:10000132-1681374600-1681410600@gnmes.nbed.ca
SUMMARY:Scholastic Book Fair
DESCRIPTION:
URL:https://gnmes.nbed.ca/calendar/scholastic-book-fair-3/
CATEGORIES:Current Students
ATTACH;FMTTYPE=image/jpeg:https://gnmes.nbed.ca/wp-content/uploads/sites/34/2023/03/Book-Fair-2.jpg
END:VEVENT
BEGIN:VEVENT
DTSTART;TZID=America/Moncton:20230412T083000
DTEND;TZID=America/Moncton:20230412T183000
DTSTAMP:20260420T232625
CREATED:20230316T141232Z
LAST-MODIFIED:20230316T141232Z
UID:10000130-1681288200-1681324200@gnmes.nbed.ca
SUMMARY:Scholastic Book Fair
DESCRIPTION:Closed for lunch from 12:30 – 1:30
URL:https://gnmes.nbed.ca/calendar/scholastic-book-fair-2/
CATEGORIES:Current Students
ATTACH;FMTTYPE=image/jpeg:https://gnmes.nbed.ca/wp-content/uploads/sites/34/2023/03/Book-Fair-2.jpg
END:VEVENT
BEGIN:VEVENT
DTSTART;TZID=America/Moncton:20230411T083000
DTEND;TZID=America/Moncton:20230411T153000
DTSTAMP:20260420T232625
CREATED:20230316T141040Z
LAST-MODIFIED:20230316T141041Z
UID:10000128-1681201800-1681227000@gnmes.nbed.ca
SUMMARY:Scholastic Book Fair
DESCRIPTION:
URL:https://gnmes.nbed.ca/calendar/scholastic-book-fair/
CATEGORIES:Current Students
ATTACH;FMTTYPE=image/jpeg:https://gnmes.nbed.ca/wp-content/uploads/sites/34/2023/03/Book-Fair-2.jpg
END:VEVENT
BEGIN:VEVENT
DTSTART;TZID=America/Moncton:20230410T000000
DTEND;TZID=America/Moncton:20230410T235959
DTSTAMP:20260420T232625
CREATED:20220502T161542Z
LAST-MODIFIED:20220921T125042Z
UID:10000094-1681084800-1681171199@gnmes.nbed.ca
SUMMARY:Easter Monday
DESCRIPTION:
URL:https://gnmes.nbed.ca/calendar/easter-monday/
END:VEVENT
BEGIN:VEVENT
DTSTART;TZID=America/Moncton:20230407T000000
DTEND;TZID=America/Moncton:20230407T235959
DTSTAMP:20260420T232625
CREATED:20220502T161451Z
LAST-MODIFIED:20220921T130244Z
UID:10000093-1680825600-1680911999@gnmes.nbed.ca
SUMMARY:Good Friday
DESCRIPTION:
URL:https://gnmes.nbed.ca/calendar/good-friday/
END:VEVENT
BEGIN:VEVENT
DTSTART;TZID=America/Moncton:20230331T130000
DTEND;TZID=America/Moncton:20230331T143000
DTSTAMP:20260420T232625
CREATED:20230328T122156Z
LAST-MODIFIED:20230328T130854Z
UID:10000135-1680267600-1680273000@gnmes.nbed.ca
SUMMARY:Powerplay Entrepreneurship Project
DESCRIPTION:Over the past three months\, many of our Grade 4 and 5 classes have been working hard creating and developing their very own businesses.  The final part of this project is selling their products to their classmates and the public which will happen on March 31st in our very own gymnasium!   \n\n\n\nIf you are sending money\, small amounts of money (loonies\, toonies\, five-dollar bill) would be preferred so it is easier for the sellers to make change if needed.     Parents\, family members and other guests are also invited to check out the sale from 1:00pm-2:30pm.  If you plan on attending\, please use the gym entrance at the front of the building and head on down to the gym. \n\n\n\nThank you very much and we look forward to our students being able to show off all their wonderful ideas!  
URL:https://gnmes.nbed.ca/calendar/powerplay-entrepreneurship-project/
CATEGORIES:Current Students,Extracurricular
ATTACH;FMTTYPE=image/png:https://gnmes.nbed.ca/wp-content/uploads/sites/34/2023/03/Powerplay.png
END:VEVENT
BEGIN:VEVENT
DTSTART;TZID=America/Moncton:20230331T060000
DTEND;TZID=America/Moncton:20230331T200000
DTSTAMP:20260420T232625
CREATED:20230228T144709Z
LAST-MODIFIED:20230320T110733Z
UID:10000126-1680242400-1680292800@gnmes.nbed.ca
SUMMARY:Strange Worlds Movie Night
DESCRIPTION:Presented by Home & School.
URL:https://gnmes.nbed.ca/calendar/strange-worlds-movie-night/
CATEGORIES:Current Students,HSA
ATTACH;FMTTYPE=image/jpeg:https://gnmes.nbed.ca/wp-content/uploads/sites/34/2023/02/Strange-world-Movie-Poster-w-Pizza.jpg
END:VEVENT
END:VCALENDAR