BEGIN:VCALENDAR
VERSION:2.0
PRODID:-//Gibson-Neill Memorial Elementary School - ECPv6.15.20//NONSGML v1.0//EN
CALSCALE:GREGORIAN
METHOD:PUBLISH
X-WR-CALNAME:Gibson-Neill Memorial Elementary School
X-ORIGINAL-URL:https://gnmes.nbed.ca
X-WR-CALDESC:Events for Gibson-Neill Memorial Elementary School
REFRESH-INTERVAL;VALUE=DURATION:PT1H
X-Robots-Tag:noindex
X-PUBLISHED-TTL:PT1H
BEGIN:VTIMEZONE
TZID:America/Moncton
BEGIN:DAYLIGHT
TZOFFSETFROM:-0400
TZOFFSETTO:-0300
TZNAME:ADT
DTSTART:20220313T060000
END:DAYLIGHT
BEGIN:STANDARD
TZOFFSETFROM:-0300
TZOFFSETTO:-0400
TZNAME:AST
DTSTART:20221106T050000
END:STANDARD
BEGIN:DAYLIGHT
TZOFFSETFROM:-0400
TZOFFSETTO:-0300
TZNAME:ADT
DTSTART:20230312T060000
END:DAYLIGHT
BEGIN:STANDARD
TZOFFSETFROM:-0300
TZOFFSETTO:-0400
TZNAME:AST
DTSTART:20231105T050000
END:STANDARD
BEGIN:DAYLIGHT
TZOFFSETFROM:-0400
TZOFFSETTO:-0300
TZNAME:ADT
DTSTART:20240310T060000
END:DAYLIGHT
BEGIN:STANDARD
TZOFFSETFROM:-0300
TZOFFSETTO:-0400
TZNAME:AST
DTSTART:20241103T050000
END:STANDARD
END:VTIMEZONE
BEGIN:VEVENT
DTSTART;TZID=America/Moncton:20231208T080000
DTEND;TZID=America/Moncton:20231208T160000
DTSTAMP:20260420T075825
CREATED:20231105T175034Z
LAST-MODIFIED:20231105T175328Z
UID:10000204-1702022400-1702051200@gnmes.nbed.ca
SUMMARY:Parent Teacher Interviews - No school for students
DESCRIPTION:
URL:https://gnmes.nbed.ca/calendar/850/
CATEGORIES:Current Students
END:VEVENT
BEGIN:VEVENT
DTSTART;TZID=America/Moncton:20231207T090000
DTEND;TZID=America/Moncton:20231207T190000
DTSTAMP:20260420T075825
CREATED:20231123T174420Z
LAST-MODIFIED:20231123T174421Z
UID:10000214-1701939600-1701975600@gnmes.nbed.ca
SUMMARY:Book Fair
DESCRIPTION:
URL:https://gnmes.nbed.ca/calendar/book-fair-5/
END:VEVENT
BEGIN:VEVENT
DTSTART;TZID=America/Moncton:20231206T140000
DTEND;TZID=America/Moncton:20231206T180000
DTSTAMP:20260420T075825
CREATED:20231123T174345Z
LAST-MODIFIED:20231123T174346Z
UID:10000213-1701871200-1701885600@gnmes.nbed.ca
SUMMARY:Book Fair
DESCRIPTION:
URL:https://gnmes.nbed.ca/calendar/book-fair-4/
END:VEVENT
BEGIN:VEVENT
DTSTART;TZID=America/Moncton:20231206T090000
DTEND;TZID=America/Moncton:20231206T120000
DTSTAMP:20260420T075825
CREATED:20231123T174308Z
LAST-MODIFIED:20231123T174309Z
UID:10000212-1701853200-1701864000@gnmes.nbed.ca
SUMMARY:Book Fair
DESCRIPTION:
URL:https://gnmes.nbed.ca/calendar/book-fair-3/
END:VEVENT
BEGIN:VEVENT
DTSTART;TZID=America/Moncton:20231205T090000
DTEND;TZID=America/Moncton:20231205T150000
DTSTAMP:20260420T075825
CREATED:20231123T174233Z
LAST-MODIFIED:20231123T174233Z
UID:10000211-1701766800-1701788400@gnmes.nbed.ca
SUMMARY:Book Fair
DESCRIPTION:
URL:https://gnmes.nbed.ca/calendar/book-fair-2/
END:VEVENT
BEGIN:VEVENT
DTSTART;TZID=America/Moncton:20231204T180000
DTEND;TZID=America/Moncton:20231204T190000
DTSTAMP:20260420T075825
CREATED:20231123T174012Z
LAST-MODIFIED:20231123T174012Z
UID:10000209-1701712800-1701716400@gnmes.nbed.ca
SUMMARY:Public Meeting Regarding New School
DESCRIPTION:
URL:https://gnmes.nbed.ca/calendar/public-meeting-regarding-new-school/
END:VEVENT
BEGIN:VEVENT
DTSTART;TZID=America/Moncton:20231204T090000
DTEND;TZID=America/Moncton:20231208T170000
DTSTAMP:20260420T075825
CREATED:20231114T133339Z
LAST-MODIFIED:20231114T133730Z
UID:10000206-1701680400-1702054800@gnmes.nbed.ca
SUMMARY:Holiday Book Fair
DESCRIPTION:Click here: https://signup.com/go/pkKrahK  to volunteer.
URL:https://gnmes.nbed.ca/calendar/holiday-book-fair/
CATEGORIES:Current Students
ATTACH;FMTTYPE=image/jpeg:https://gnmes.nbed.ca/wp-content/uploads/sites/34/2023/11/Holiday-Book-Fair-scaled.jpg
END:VEVENT
BEGIN:VEVENT
DTSTART;TZID=America/Moncton:20231204T090000
DTEND;TZID=America/Moncton:20231204T150000
DTSTAMP:20260420T075825
CREATED:20231123T174156Z
LAST-MODIFIED:20231123T174157Z
UID:10000210-1701680400-1701702000@gnmes.nbed.ca
SUMMARY:Book Fair
DESCRIPTION:
URL:https://gnmes.nbed.ca/calendar/book-fair/
END:VEVENT
BEGIN:VEVENT
DTSTART;TZID=America/Moncton:20231204T080000
DTEND;TZID=America/Moncton:20231204T170000
DTSTAMP:20260420T075825
CREATED:20231006T162213Z
LAST-MODIFIED:20231006T162214Z
UID:10000198-1701676800-1701709200@gnmes.nbed.ca
SUMMARY:Report Cards Sent Home
DESCRIPTION:
URL:https://gnmes.nbed.ca/calendar/report-cards-sent-home/
CATEGORIES:Current Students
END:VEVENT
BEGIN:VEVENT
DTSTART;TZID=America/Moncton:20231124T080000
DTEND;TZID=America/Moncton:20231124T170000
DTSTAMP:20260420T075825
CREATED:20231006T162039Z
LAST-MODIFIED:20231006T162040Z
UID:10000197-1700812800-1700845200@gnmes.nbed.ca
SUMMARY:No School - Professional Learning
DESCRIPTION:
URL:https://gnmes.nbed.ca/calendar/no-school-professional-learning-2/
CATEGORIES:Current Students
END:VEVENT
BEGIN:VEVENT
DTSTART;TZID=America/Moncton:20231123T183000
DTEND;TZID=America/Moncton:20231123T193000
DTSTAMP:20260420T075825
CREATED:20231105T175918Z
LAST-MODIFIED:20231105T180249Z
UID:10000205-1700764200-1700767800@gnmes.nbed.ca
SUMMARY:PSSC Meeting
DESCRIPTION:
URL:https://gnmes.nbed.ca/calendar/pssc-meeting-5/
END:VEVENT
BEGIN:VEVENT
DTSTART;TZID=America/Moncton:20231116T183000
DTEND;TZID=America/Moncton:20231116T193000
DTSTAMP:20260420T075825
CREATED:20231006T161732Z
LAST-MODIFIED:20231006T161732Z
UID:10000196-1700159400-1700163000@gnmes.nbed.ca
SUMMARY:Home & School Meeting
DESCRIPTION:
URL:https://gnmes.nbed.ca/calendar/home-school-meeting-2/
CATEGORIES:HSA
END:VEVENT
BEGIN:VEVENT
DTSTART;TZID=America/Moncton:20231113T000000
DTEND;TZID=America/Moncton:20231113T235900
DTSTAMP:20260420T075825
CREATED:20230616T121829Z
LAST-MODIFIED:20230620T120109Z
UID:10000165-1699833600-1699919940@gnmes.nbed.ca
SUMMARY:Remembrance Day (Observed)
DESCRIPTION:Schools closed.
URL:https://gnmes.nbed.ca/calendar/remembrance-day-observed/
CATEGORIES:Current Students
END:VEVENT
BEGIN:VEVENT
DTSTART;TZID=America/Moncton:20231110T110000
DTEND;TZID=America/Moncton:20231110T113000
DTSTAMP:20260420T075825
CREATED:20230922T143247Z
LAST-MODIFIED:20230922T143248Z
UID:10000192-1699614000-1699615800@gnmes.nbed.ca
SUMMARY:Remembrance Day Assembly
DESCRIPTION:Assembly for whole school
URL:https://gnmes.nbed.ca/calendar/remembrance-day-assembly/
END:VEVENT
BEGIN:VEVENT
DTSTART;TZID=America/Moncton:20231103T080000
DTEND;TZID=America/Moncton:20231103T170000
DTSTAMP:20260420T075825
CREATED:20231006T161652Z
LAST-MODIFIED:20231006T161653Z
UID:10000195-1698998400-1699030800@gnmes.nbed.ca
SUMMARY:No School - Professional Learning
DESCRIPTION:
URL:https://gnmes.nbed.ca/calendar/no-school-professional-learning/
CATEGORIES:Current Students
END:VEVENT
BEGIN:VEVENT
DTSTART;TZID=America/Moncton:20231031T080000
DTEND;TZID=America/Moncton:20231031T170000
DTSTAMP:20260420T075825
CREATED:20230922T142948Z
LAST-MODIFIED:20230922T143025Z
UID:10000191-1698739200-1698771600@gnmes.nbed.ca
SUMMARY:Halloween!
DESCRIPTION:Students can wear costumes on this day – no masks or weapon accessories.  Costumes must allow students to fully participate in a regular school day (PE and recess)
URL:https://gnmes.nbed.ca/calendar/halloween/
CATEGORIES:Current Students
ATTACH;FMTTYPE=image/jpeg:https://gnmes.nbed.ca/wp-content/uploads/sites/34/2023/09/Happy-Halloween.jpg
END:VEVENT
BEGIN:VEVENT
DTSTART;TZID=America/Moncton:20231027T130000
DTEND;TZID=America/Moncton:20231027T140000
DTSTAMP:20260420T075825
CREATED:20230901T122501Z
LAST-MODIFIED:20230901T122502Z
UID:10000185-1698411600-1698415200@gnmes.nbed.ca
SUMMARY:Earth Rangers Assembly - Grades 3-5
DESCRIPTION:
URL:https://gnmes.nbed.ca/calendar/earth-rangers-assembly-grades-3-5/
CATEGORIES:Current Students
END:VEVENT
BEGIN:VEVENT
DTSTART;TZID=America/Moncton:20231026T183000
DTEND;TZID=America/Moncton:20231026T193000
DTSTAMP:20260420T075825
CREATED:20231006T161603Z
LAST-MODIFIED:20231006T161603Z
UID:10000194-1698345000-1698348600@gnmes.nbed.ca
SUMMARY:PSSC Meeting
DESCRIPTION:
URL:https://gnmes.nbed.ca/calendar/pssc-meeting-4/
CATEGORIES:PSSC
END:VEVENT
BEGIN:VEVENT
DTSTART;TZID=America/Moncton:20231023T080000
DTEND;TZID=America/Moncton:20231023T170000
DTSTAMP:20260420T075825
CREATED:20230922T142701Z
LAST-MODIFIED:20230922T142702Z
UID:10000190-1698048000-1698080400@gnmes.nbed.ca
SUMMARY:Canadian School Library Day 
DESCRIPTION:
URL:https://gnmes.nbed.ca/calendar/canadian-school-library-day/
CATEGORIES:Current Students
END:VEVENT
BEGIN:VEVENT
DTSTART;TZID=America/Moncton:20231020T174500
DTEND;TZID=America/Moncton:20231020T200000
DTSTAMP:20260420T075825
CREATED:20231003T134817Z
LAST-MODIFIED:20231003T134818Z
UID:10000193-1697823900-1697832000@gnmes.nbed.ca
SUMMARY:Movie Night
DESCRIPTION:Hotel Transylvania  – Transformania
URL:https://gnmes.nbed.ca/calendar/movie-night/
CATEGORIES:Current Students,HSA
ATTACH;FMTTYPE=image/jpeg:https://gnmes.nbed.ca/wp-content/uploads/sites/34/2023/10/Hotel-transylvia-with-water.jpg
END:VEVENT
BEGIN:VEVENT
DTSTART;TZID=America/Moncton:20231016T080000
DTEND;TZID=America/Moncton:20231020T170000
DTSTAMP:20260420T075825
CREATED:20230922T142609Z
LAST-MODIFIED:20230922T142610Z
UID:10000189-1697443200-1697821200@gnmes.nbed.ca
SUMMARY:Safe Schools Week
DESCRIPTION:
URL:https://gnmes.nbed.ca/calendar/safe-schools-week/
CATEGORIES:Current Students
END:VEVENT
BEGIN:VEVENT
DTSTART;TZID=America/Moncton:20231013T080000
DTEND;TZID=America/Moncton:20231013T170000
DTSTAMP:20260420T075825
CREATED:20230901T122403Z
LAST-MODIFIED:20230901T122403Z
UID:10000184-1697184000-1697216400@gnmes.nbed.ca
SUMMARY:Professional Learning - No School
DESCRIPTION:
URL:https://gnmes.nbed.ca/calendar/professional-learning-no-school/
CATEGORIES:Current Students
END:VEVENT
BEGIN:VEVENT
DTSTART;TZID=America/Moncton:20231010T080000
DTEND;TZID=America/Moncton:20231013T160000
DTSTAMP:20260420T075825
CREATED:20230901T122319Z
LAST-MODIFIED:20230901T122319Z
UID:10000183-1696924800-1697212800@gnmes.nbed.ca
SUMMARY:Kindergarten Registration Week
DESCRIPTION:
URL:https://gnmes.nbed.ca/calendar/kindergarten-registration-week/
END:VEVENT
BEGIN:VEVENT
DTSTART;TZID=America/Moncton:20231009T000000
DTEND;TZID=America/Moncton:20231009T235900
DTSTAMP:20260420T075825
CREATED:20230616T121706Z
LAST-MODIFIED:20230620T120100Z
UID:10000164-1696809600-1696895940@gnmes.nbed.ca
SUMMARY:Thanksgiving Day
DESCRIPTION:Schools closed.
URL:https://gnmes.nbed.ca/calendar/thanksgiving-day-2/
CATEGORIES:Current Students
END:VEVENT
BEGIN:VEVENT
DTSTART;TZID=America/Moncton:20231002T000000
DTEND;TZID=America/Moncton:20231002T235900
DTSTAMP:20260420T075825
CREATED:20230616T121613Z
LAST-MODIFIED:20230620T120017Z
UID:10000163-1696204800-1696291140@gnmes.nbed.ca
SUMMARY:National Day for Truth and Reconciliation
DESCRIPTION:Schools closed.
URL:https://gnmes.nbed.ca/calendar/national-day-for-truth-and-reconciliation/
CATEGORIES:Current Students
END:VEVENT
BEGIN:VEVENT
DTSTART;TZID=America/Moncton:20230928T183000
DTEND;TZID=America/Moncton:20230928T193000
DTSTAMP:20260420T075825
CREATED:20230907T112939Z
LAST-MODIFIED:20230907T112939Z
UID:10000186-1695925800-1695929400@gnmes.nbed.ca
SUMMARY:PSSC Meeting
DESCRIPTION:
URL:https://gnmes.nbed.ca/calendar/pssc-meeting-3/
END:VEVENT
BEGIN:VEVENT
DTSTART;TZID=America/Moncton:20230922T080000
DTEND;TZID=America/Moncton:20230922T170000
DTSTAMP:20260420T075825
CREATED:20230901T122128Z
LAST-MODIFIED:20230901T122129Z
UID:10000182-1695369600-1695402000@gnmes.nbed.ca
SUMMARY:Professional Learning for Staff - No School
DESCRIPTION:Positive Learning Environment Day
URL:https://gnmes.nbed.ca/calendar/professional-learning-for-staff-no-school/
CATEGORIES:Current Students
END:VEVENT
BEGIN:VEVENT
DTSTART;TZID=America/Moncton:20230920T131500
DTEND;TZID=America/Moncton:20230920T143000
DTSTAMP:20260420T075825
CREATED:20230907T124911Z
LAST-MODIFIED:20230907T124912Z
UID:10000187-1695215700-1695220200@gnmes.nbed.ca
SUMMARY:Cross Country
DESCRIPTION:
URL:https://gnmes.nbed.ca/calendar/cross-country/
CATEGORIES:Athletics,Current Students
END:VEVENT
BEGIN:VEVENT
DTSTART;TZID=America/Moncton:20230918T080000
DTEND;TZID=America/Moncton:20230918T170000
DTSTAMP:20260420T075825
CREATED:20230901T121855Z
LAST-MODIFIED:20230901T121856Z
UID:10000180-1695024000-1695056400@gnmes.nbed.ca
SUMMARY:Cafeteria Service Begins
DESCRIPTION:
URL:https://gnmes.nbed.ca/calendar/cafeteria-service-begins/
END:VEVENT
BEGIN:VEVENT
DTSTART;TZID=America/Moncton:20230915T080000
DTEND;TZID=America/Moncton:20230915T170000
DTSTAMP:20260420T075825
CREATED:20230901T121926Z
LAST-MODIFIED:20230901T121926Z
UID:10000181-1694764800-1694797200@gnmes.nbed.ca
SUMMARY:Picture Day
DESCRIPTION:
URL:https://gnmes.nbed.ca/calendar/picture-day/
END:VEVENT
END:VCALENDAR